BEGIN:VCALENDAR
PRODID:-//HKUST Drupal Platform//EN
VERSION:2.0
BEGIN:VTIMEZONE
TZID:Asia/Hong_Kong
BEGIN:STANDARD
DTSTART:20071104T020000
TZOFFSETFROM:+0700
TZOFFSETTO:+0800
TZNAME:HKT
END:STANDARD
END:VTIMEZONE
BEGIN:VEVENT
DTSTAMP;TZID=Asia/Hong_Kong:20260422T154653
DTSTART;TZID=Asia/Hong_Kong:19700101T080000
DTEND;TZID=Asia/Hong_Kong:19700101T080000
LOCATION:2126D室 (19號電梯)
SUMMARY:清末民初粵語口語中與完成體相關的助詞 
UID:752
END:VEVENT
END:VCALENDAR