BEGIN:VCALENDAR
PRODID:-//HKUST Drupal Platform//EN
VERSION:2.0
BEGIN:VTIMEZONE
TZID:Asia/Hong_Kong
BEGIN:STANDARD
DTSTART:20071104T020000
TZOFFSETFROM:+0700
TZOFFSETTO:+0800
TZNAME:HKT
END:STANDARD
END:VTIMEZONE
BEGIN:VEVENT
DTSTAMP;TZID=Asia/Hong_Kong:20260420T145559
DTSTART;TZID=Asia/Hong_Kong:20170306T000000
DTEND;TZID=Asia/Hong_Kong:20170306T000000
LOCATION:Ping Yuan and Kinmay W Tang Gallery, Lee Shau Kee Library, HKUST   香港科技大學李兆基圖書館   唐炳源唐温金美展覽廳
SUMMARY:Library Exhibition - \"Sha Fei: A Humanist Photographer at War (1912-1950)\" 沙飛: 戰爭中的人文攝影師
UID:519
END:VEVENT
BEGIN:VEVENT
DTSTAMP;TZID=Asia/Hong_Kong:20260420T145559
DTSTART;TZID=Asia/Hong_Kong:20170307T000000
DTEND;TZID=Asia/Hong_Kong:20170307T000000
LOCATION:Ping Yuan and Kinmay W Tang Gallery, Lee Shau Kee Library, HKUST   香港科技大學李兆基圖書館   唐炳源唐温金美展覽廳
SUMMARY:Library Exhibition - \"Sha Fei: A Humanist Photographer at War (1912-1950)\" 沙飛: 戰爭中的人文攝影師
UID:519
END:VEVENT
BEGIN:VEVENT
DTSTAMP;TZID=Asia/Hong_Kong:20260420T145559
DTSTART;TZID=Asia/Hong_Kong:20170308T000000
DTEND;TZID=Asia/Hong_Kong:20170308T000000
LOCATION:Ping Yuan and Kinmay W Tang Gallery, Lee Shau Kee Library, HKUST   香港科技大學李兆基圖書館   唐炳源唐温金美展覽廳
SUMMARY:Library Exhibition - \"Sha Fei: A Humanist Photographer at War (1912-1950)\" 沙飛: 戰爭中的人文攝影師
UID:519
END:VEVENT
BEGIN:VEVENT
DTSTAMP;TZID=Asia/Hong_Kong:20260420T145559
DTSTART;TZID=Asia/Hong_Kong:20170309T000000
DTEND;TZID=Asia/Hong_Kong:20170309T000000
LOCATION:Ping Yuan and Kinmay W Tang Gallery, Lee Shau Kee Library, HKUST   香港科技大學李兆基圖書館   唐炳源唐温金美展覽廳
SUMMARY:Library Exhibition - \"Sha Fei: A Humanist Photographer at War (1912-1950)\" 沙飛: 戰爭中的人文攝影師
UID:519
END:VEVENT
BEGIN:VEVENT
DTSTAMP;TZID=Asia/Hong_Kong:20260420T145559
DTSTART;TZID=Asia/Hong_Kong:20170310T000000
DTEND;TZID=Asia/Hong_Kong:20170310T000000
LOCATION:Ping Yuan and Kinmay W Tang Gallery, Lee Shau Kee Library, HKUST   香港科技大學李兆基圖書館   唐炳源唐温金美展覽廳
SUMMARY:Library Exhibition - \"Sha Fei: A Humanist Photographer at War (1912-1950)\" 沙飛: 戰爭中的人文攝影師
UID:519
END:VEVENT
BEGIN:VEVENT
DTSTAMP;TZID=Asia/Hong_Kong:20260420T145559
DTSTART;TZID=Asia/Hong_Kong:20170311T000000
DTEND;TZID=Asia/Hong_Kong:20170311T000000
LOCATION:Ping Yuan and Kinmay W Tang Gallery, Lee Shau Kee Library, HKUST   香港科技大學李兆基圖書館   唐炳源唐温金美展覽廳
SUMMARY:Library Exhibition - \"Sha Fei: A Humanist Photographer at War (1912-1950)\" 沙飛: 戰爭中的人文攝影師
UID:519
END:VEVENT
BEGIN:VEVENT
DTSTAMP;TZID=Asia/Hong_Kong:20260420T145559
DTSTART;TZID=Asia/Hong_Kong:20170312T000000
DTEND;TZID=Asia/Hong_Kong:20170312T000000
LOCATION:Ping Yuan and Kinmay W Tang Gallery, Lee Shau Kee Library, HKUST   香港科技大學李兆基圖書館   唐炳源唐温金美展覽廳
SUMMARY:Library Exhibition - \"Sha Fei: A Humanist Photographer at War (1912-1950)\" 沙飛: 戰爭中的人文攝影師
UID:519
END:VEVENT
BEGIN:VEVENT
DTSTAMP;TZID=Asia/Hong_Kong:20260420T145559
DTSTART;TZID=Asia/Hong_Kong:20170313T000000
DTEND;TZID=Asia/Hong_Kong:20170313T000000
LOCATION:Ping Yuan and Kinmay W Tang Gallery, Lee Shau Kee Library, HKUST   香港科技大學李兆基圖書館   唐炳源唐温金美展覽廳
SUMMARY:Library Exhibition - \"Sha Fei: A Humanist Photographer at War (1912-1950)\" 沙飛: 戰爭中的人文攝影師
UID:519
END:VEVENT
BEGIN:VEVENT
DTSTAMP;TZID=Asia/Hong_Kong:20260420T145559
DTSTART;TZID=Asia/Hong_Kong:20170314T000000
DTEND;TZID=Asia/Hong_Kong:20170314T000000
LOCATION:Ping Yuan and Kinmay W Tang Gallery, Lee Shau Kee Library, HKUST   香港科技大學李兆基圖書館   唐炳源唐温金美展覽廳
SUMMARY:Library Exhibition - \"Sha Fei: A Humanist Photographer at War (1912-1950)\" 沙飛: 戰爭中的人文攝影師
UID:519
END:VEVENT
BEGIN:VEVENT
DTSTAMP;TZID=Asia/Hong_Kong:20260420T145559
DTSTART;TZID=Asia/Hong_Kong:20170315T000000
DTEND;TZID=Asia/Hong_Kong:20170315T000000
LOCATION:Ping Yuan and Kinmay W Tang Gallery, Lee Shau Kee Library, HKUST   香港科技大學李兆基圖書館   唐炳源唐温金美展覽廳
SUMMARY:Library Exhibition - \"Sha Fei: A Humanist Photographer at War (1912-1950)\" 沙飛: 戰爭中的人文攝影師
UID:519
END:VEVENT
BEGIN:VEVENT
DTSTAMP;TZID=Asia/Hong_Kong:20260420T145559
DTSTART;TZID=Asia/Hong_Kong:20170316T000000
DTEND;TZID=Asia/Hong_Kong:20170316T000000
LOCATION:Ping Yuan and Kinmay W Tang Gallery, Lee Shau Kee Library, HKUST   香港科技大學李兆基圖書館   唐炳源唐温金美展覽廳
SUMMARY:Library Exhibition - \"Sha Fei: A Humanist Photographer at War (1912-1950)\" 沙飛: 戰爭中的人文攝影師
UID:519
END:VEVENT
BEGIN:VEVENT
DTSTAMP;TZID=Asia/Hong_Kong:20260420T145559
DTSTART;TZID=Asia/Hong_Kong:20170317T000000
DTEND;TZID=Asia/Hong_Kong:20170317T000000
LOCATION:Ping Yuan and Kinmay W Tang Gallery, Lee Shau Kee Library, HKUST   香港科技大學李兆基圖書館   唐炳源唐温金美展覽廳
SUMMARY:Library Exhibition - \"Sha Fei: A Humanist Photographer at War (1912-1950)\" 沙飛: 戰爭中的人文攝影師
UID:519
END:VEVENT
BEGIN:VEVENT
DTSTAMP;TZID=Asia/Hong_Kong:20260420T145559
DTSTART;TZID=Asia/Hong_Kong:20170318T000000
DTEND;TZID=Asia/Hong_Kong:20170318T000000
LOCATION:Ping Yuan and Kinmay W Tang Gallery, Lee Shau Kee Library, HKUST   香港科技大學李兆基圖書館   唐炳源唐温金美展覽廳
SUMMARY:Library Exhibition - \"Sha Fei: A Humanist Photographer at War (1912-1950)\" 沙飛: 戰爭中的人文攝影師
UID:519
END:VEVENT
BEGIN:VEVENT
DTSTAMP;TZID=Asia/Hong_Kong:20260420T145559
DTSTART;TZID=Asia/Hong_Kong:20170319T000000
DTEND;TZID=Asia/Hong_Kong:20170319T000000
LOCATION:Ping Yuan and Kinmay W Tang Gallery, Lee Shau Kee Library, HKUST   香港科技大學李兆基圖書館   唐炳源唐温金美展覽廳
SUMMARY:Library Exhibition - \"Sha Fei: A Humanist Photographer at War (1912-1950)\" 沙飛: 戰爭中的人文攝影師
UID:519
END:VEVENT
BEGIN:VEVENT
DTSTAMP;TZID=Asia/Hong_Kong:20260420T145559
DTSTART;TZID=Asia/Hong_Kong:20170320T000000
DTEND;TZID=Asia/Hong_Kong:20170320T000000
LOCATION:Ping Yuan and Kinmay W Tang Gallery, Lee Shau Kee Library, HKUST   香港科技大學李兆基圖書館   唐炳源唐温金美展覽廳
SUMMARY:Library Exhibition - \"Sha Fei: A Humanist Photographer at War (1912-1950)\" 沙飛: 戰爭中的人文攝影師
UID:519
END:VEVENT
BEGIN:VEVENT
DTSTAMP;TZID=Asia/Hong_Kong:20260420T145559
DTSTART;TZID=Asia/Hong_Kong:20170321T000000
DTEND;TZID=Asia/Hong_Kong:20170321T000000
LOCATION:Ping Yuan and Kinmay W Tang Gallery, Lee Shau Kee Library, HKUST   香港科技大學李兆基圖書館   唐炳源唐温金美展覽廳
SUMMARY:Library Exhibition - \"Sha Fei: A Humanist Photographer at War (1912-1950)\" 沙飛: 戰爭中的人文攝影師
UID:519
END:VEVENT
BEGIN:VEVENT
DTSTAMP;TZID=Asia/Hong_Kong:20260420T145559
DTSTART;TZID=Asia/Hong_Kong:20170322T000000
DTEND;TZID=Asia/Hong_Kong:20170322T000000
LOCATION:Ping Yuan and Kinmay W Tang Gallery, Lee Shau Kee Library, HKUST   香港科技大學李兆基圖書館   唐炳源唐温金美展覽廳
SUMMARY:Library Exhibition - \"Sha Fei: A Humanist Photographer at War (1912-1950)\" 沙飛: 戰爭中的人文攝影師
UID:519
END:VEVENT
BEGIN:VEVENT
DTSTAMP;TZID=Asia/Hong_Kong:20260420T145559
DTSTART;TZID=Asia/Hong_Kong:20170323T000000
DTEND;TZID=Asia/Hong_Kong:20170323T000000
LOCATION:Ping Yuan and Kinmay W Tang Gallery, Lee Shau Kee Library, HKUST   香港科技大學李兆基圖書館   唐炳源唐温金美展覽廳
SUMMARY:Library Exhibition - \"Sha Fei: A Humanist Photographer at War (1912-1950)\" 沙飛: 戰爭中的人文攝影師
UID:519
END:VEVENT
BEGIN:VEVENT
DTSTAMP;TZID=Asia/Hong_Kong:20260420T145559
DTSTART;TZID=Asia/Hong_Kong:20170324T000000
DTEND;TZID=Asia/Hong_Kong:20170324T000000
LOCATION:Ping Yuan and Kinmay W Tang Gallery, Lee Shau Kee Library, HKUST   香港科技大學李兆基圖書館   唐炳源唐温金美展覽廳
SUMMARY:Library Exhibition - \"Sha Fei: A Humanist Photographer at War (1912-1950)\" 沙飛: 戰爭中的人文攝影師
UID:519
END:VEVENT
BEGIN:VEVENT
DTSTAMP;TZID=Asia/Hong_Kong:20260420T145559
DTSTART;TZID=Asia/Hong_Kong:20170325T000000
DTEND;TZID=Asia/Hong_Kong:20170325T000000
LOCATION:Ping Yuan and Kinmay W Tang Gallery, Lee Shau Kee Library, HKUST   香港科技大學李兆基圖書館   唐炳源唐温金美展覽廳
SUMMARY:Library Exhibition - \"Sha Fei: A Humanist Photographer at War (1912-1950)\" 沙飛: 戰爭中的人文攝影師
UID:519
END:VEVENT
BEGIN:VEVENT
DTSTAMP;TZID=Asia/Hong_Kong:20260420T145559
DTSTART;TZID=Asia/Hong_Kong:20170326T000000
DTEND;TZID=Asia/Hong_Kong:20170326T000000
LOCATION:Ping Yuan and Kinmay W Tang Gallery, Lee Shau Kee Library, HKUST   香港科技大學李兆基圖書館   唐炳源唐温金美展覽廳
SUMMARY:Library Exhibition - \"Sha Fei: A Humanist Photographer at War (1912-1950)\" 沙飛: 戰爭中的人文攝影師
UID:519
END:VEVENT
BEGIN:VEVENT
DTSTAMP;TZID=Asia/Hong_Kong:20260420T145559
DTSTART;TZID=Asia/Hong_Kong:20170327T000000
DTEND;TZID=Asia/Hong_Kong:20170327T000000
LOCATION:Ping Yuan and Kinmay W Tang Gallery, Lee Shau Kee Library, HKUST   香港科技大學李兆基圖書館   唐炳源唐温金美展覽廳
SUMMARY:Library Exhibition - \"Sha Fei: A Humanist Photographer at War (1912-1950)\" 沙飛: 戰爭中的人文攝影師
UID:519
END:VEVENT
BEGIN:VEVENT
DTSTAMP;TZID=Asia/Hong_Kong:20260420T145559
DTSTART;TZID=Asia/Hong_Kong:20170328T000000
DTEND;TZID=Asia/Hong_Kong:20170328T000000
LOCATION:Ping Yuan and Kinmay W Tang Gallery, Lee Shau Kee Library, HKUST   香港科技大學李兆基圖書館   唐炳源唐温金美展覽廳
SUMMARY:Library Exhibition - \"Sha Fei: A Humanist Photographer at War (1912-1950)\" 沙飛: 戰爭中的人文攝影師
UID:519
END:VEVENT
BEGIN:VEVENT
DTSTAMP;TZID=Asia/Hong_Kong:20260420T145559
DTSTART;TZID=Asia/Hong_Kong:20170329T000000
DTEND;TZID=Asia/Hong_Kong:20170329T000000
LOCATION:Ping Yuan and Kinmay W Tang Gallery, Lee Shau Kee Library, HKUST   香港科技大學李兆基圖書館   唐炳源唐温金美展覽廳
SUMMARY:Library Exhibition - \"Sha Fei: A Humanist Photographer at War (1912-1950)\" 沙飛: 戰爭中的人文攝影師
UID:519
END:VEVENT
BEGIN:VEVENT
DTSTAMP;TZID=Asia/Hong_Kong:20260420T145559
DTSTART;TZID=Asia/Hong_Kong:20170330T000000
DTEND;TZID=Asia/Hong_Kong:20170330T000000
LOCATION:Ping Yuan and Kinmay W Tang Gallery, Lee Shau Kee Library, HKUST   香港科技大學李兆基圖書館   唐炳源唐温金美展覽廳
SUMMARY:Library Exhibition - \"Sha Fei: A Humanist Photographer at War (1912-1950)\" 沙飛: 戰爭中的人文攝影師
UID:519
END:VEVENT
BEGIN:VEVENT
DTSTAMP;TZID=Asia/Hong_Kong:20260420T145559
DTSTART;TZID=Asia/Hong_Kong:20170331T000000
DTEND;TZID=Asia/Hong_Kong:20170331T000000
LOCATION:Ping Yuan and Kinmay W Tang Gallery, Lee Shau Kee Library, HKUST   香港科技大學李兆基圖書館   唐炳源唐温金美展覽廳
SUMMARY:Library Exhibition - \"Sha Fei: A Humanist Photographer at War (1912-1950)\" 沙飛: 戰爭中的人文攝影師
UID:519
END:VEVENT
BEGIN:VEVENT
DTSTAMP;TZID=Asia/Hong_Kong:20260420T145559
DTSTART;TZID=Asia/Hong_Kong:20170401T000000
DTEND;TZID=Asia/Hong_Kong:20170401T000000
LOCATION:Ping Yuan and Kinmay W Tang Gallery, Lee Shau Kee Library, HKUST   香港科技大學李兆基圖書館   唐炳源唐温金美展覽廳
SUMMARY:Library Exhibition - \"Sha Fei: A Humanist Photographer at War (1912-1950)\" 沙飛: 戰爭中的人文攝影師
UID:519
END:VEVENT
BEGIN:VEVENT
DTSTAMP;TZID=Asia/Hong_Kong:20260420T145559
DTSTART;TZID=Asia/Hong_Kong:20170402T000000
DTEND;TZID=Asia/Hong_Kong:20170402T000000
LOCATION:Ping Yuan and Kinmay W Tang Gallery, Lee Shau Kee Library, HKUST   香港科技大學李兆基圖書館   唐炳源唐温金美展覽廳
SUMMARY:Library Exhibition - \"Sha Fei: A Humanist Photographer at War (1912-1950)\" 沙飛: 戰爭中的人文攝影師
UID:519
END:VEVENT
BEGIN:VEVENT
DTSTAMP;TZID=Asia/Hong_Kong:20260420T145559
DTSTART;TZID=Asia/Hong_Kong:20170403T000000
DTEND;TZID=Asia/Hong_Kong:20170403T000000
LOCATION:Ping Yuan and Kinmay W Tang Gallery, Lee Shau Kee Library, HKUST   香港科技大學李兆基圖書館   唐炳源唐温金美展覽廳
SUMMARY:Library Exhibition - \"Sha Fei: A Humanist Photographer at War (1912-1950)\" 沙飛: 戰爭中的人文攝影師
UID:519
END:VEVENT
BEGIN:VEVENT
DTSTAMP;TZID=Asia/Hong_Kong:20260420T145559
DTSTART;TZID=Asia/Hong_Kong:20170404T000000
DTEND;TZID=Asia/Hong_Kong:20170404T000000
LOCATION:Ping Yuan and Kinmay W Tang Gallery, Lee Shau Kee Library, HKUST   香港科技大學李兆基圖書館   唐炳源唐温金美展覽廳
SUMMARY:Library Exhibition - \"Sha Fei: A Humanist Photographer at War (1912-1950)\" 沙飛: 戰爭中的人文攝影師
UID:519
END:VEVENT
BEGIN:VEVENT
DTSTAMP;TZID=Asia/Hong_Kong:20260420T145559
DTSTART;TZID=Asia/Hong_Kong:20170405T000000
DTEND;TZID=Asia/Hong_Kong:20170405T000000
LOCATION:Ping Yuan and Kinmay W Tang Gallery, Lee Shau Kee Library, HKUST   香港科技大學李兆基圖書館   唐炳源唐温金美展覽廳
SUMMARY:Library Exhibition - \"Sha Fei: A Humanist Photographer at War (1912-1950)\" 沙飛: 戰爭中的人文攝影師
UID:519
END:VEVENT
BEGIN:VEVENT
DTSTAMP;TZID=Asia/Hong_Kong:20260420T145559
DTSTART;TZID=Asia/Hong_Kong:20170406T000000
DTEND;TZID=Asia/Hong_Kong:20170406T000000
LOCATION:Ping Yuan and Kinmay W Tang Gallery, Lee Shau Kee Library, HKUST   香港科技大學李兆基圖書館   唐炳源唐温金美展覽廳
SUMMARY:Library Exhibition - \"Sha Fei: A Humanist Photographer at War (1912-1950)\" 沙飛: 戰爭中的人文攝影師
UID:519
END:VEVENT
BEGIN:VEVENT
DTSTAMP;TZID=Asia/Hong_Kong:20260420T145559
DTSTART;TZID=Asia/Hong_Kong:20170407T000000
DTEND;TZID=Asia/Hong_Kong:20170407T000000
LOCATION:Ping Yuan and Kinmay W Tang Gallery, Lee Shau Kee Library, HKUST   香港科技大學李兆基圖書館   唐炳源唐温金美展覽廳
SUMMARY:Library Exhibition - \"Sha Fei: A Humanist Photographer at War (1912-1950)\" 沙飛: 戰爭中的人文攝影師
UID:519
END:VEVENT
BEGIN:VEVENT
DTSTAMP;TZID=Asia/Hong_Kong:20260420T145559
DTSTART;TZID=Asia/Hong_Kong:20170408T000000
DTEND;TZID=Asia/Hong_Kong:20170408T000000
LOCATION:Ping Yuan and Kinmay W Tang Gallery, Lee Shau Kee Library, HKUST   香港科技大學李兆基圖書館   唐炳源唐温金美展覽廳
SUMMARY:Library Exhibition - \"Sha Fei: A Humanist Photographer at War (1912-1950)\" 沙飛: 戰爭中的人文攝影師
UID:519
END:VEVENT
BEGIN:VEVENT
DTSTAMP;TZID=Asia/Hong_Kong:20260420T145559
DTSTART;TZID=Asia/Hong_Kong:20170409T000000
DTEND;TZID=Asia/Hong_Kong:20170409T000000
LOCATION:Ping Yuan and Kinmay W Tang Gallery, Lee Shau Kee Library, HKUST   香港科技大學李兆基圖書館   唐炳源唐温金美展覽廳
SUMMARY:Library Exhibition - \"Sha Fei: A Humanist Photographer at War (1912-1950)\" 沙飛: 戰爭中的人文攝影師
UID:519
END:VEVENT
BEGIN:VEVENT
DTSTAMP;TZID=Asia/Hong_Kong:20260420T145559
DTSTART;TZID=Asia/Hong_Kong:20170410T000000
DTEND;TZID=Asia/Hong_Kong:20170410T000000
LOCATION:Ping Yuan and Kinmay W Tang Gallery, Lee Shau Kee Library, HKUST   香港科技大學李兆基圖書館   唐炳源唐温金美展覽廳
SUMMARY:Library Exhibition - \"Sha Fei: A Humanist Photographer at War (1912-1950)\" 沙飛: 戰爭中的人文攝影師
UID:519
END:VEVENT
BEGIN:VEVENT
DTSTAMP;TZID=Asia/Hong_Kong:20260420T145559
DTSTART;TZID=Asia/Hong_Kong:20170411T000000
DTEND;TZID=Asia/Hong_Kong:20170411T000000
LOCATION:Ping Yuan and Kinmay W Tang Gallery, Lee Shau Kee Library, HKUST   香港科技大學李兆基圖書館   唐炳源唐温金美展覽廳
SUMMARY:Library Exhibition - \"Sha Fei: A Humanist Photographer at War (1912-1950)\" 沙飛: 戰爭中的人文攝影師
UID:519
END:VEVENT
BEGIN:VEVENT
DTSTAMP;TZID=Asia/Hong_Kong:20260420T145559
DTSTART;TZID=Asia/Hong_Kong:20170412T000000
DTEND;TZID=Asia/Hong_Kong:20170412T000000
LOCATION:Ping Yuan and Kinmay W Tang Gallery, Lee Shau Kee Library, HKUST   香港科技大學李兆基圖書館   唐炳源唐温金美展覽廳
SUMMARY:Library Exhibition - \"Sha Fei: A Humanist Photographer at War (1912-1950)\" 沙飛: 戰爭中的人文攝影師
UID:519
END:VEVENT
BEGIN:VEVENT
DTSTAMP;TZID=Asia/Hong_Kong:20260420T145559
DTSTART;TZID=Asia/Hong_Kong:20170413T000000
DTEND;TZID=Asia/Hong_Kong:20170413T000000
LOCATION:Ping Yuan and Kinmay W Tang Gallery, Lee Shau Kee Library, HKUST   香港科技大學李兆基圖書館   唐炳源唐温金美展覽廳
SUMMARY:Library Exhibition - \"Sha Fei: A Humanist Photographer at War (1912-1950)\" 沙飛: 戰爭中的人文攝影師
UID:519
END:VEVENT
BEGIN:VEVENT
DTSTAMP;TZID=Asia/Hong_Kong:20260420T145559
DTSTART;TZID=Asia/Hong_Kong:20170414T000000
DTEND;TZID=Asia/Hong_Kong:20170414T000000
LOCATION:Ping Yuan and Kinmay W Tang Gallery, Lee Shau Kee Library, HKUST   香港科技大學李兆基圖書館   唐炳源唐温金美展覽廳
SUMMARY:Library Exhibition - \"Sha Fei: A Humanist Photographer at War (1912-1950)\" 沙飛: 戰爭中的人文攝影師
UID:519
END:VEVENT
BEGIN:VEVENT
DTSTAMP;TZID=Asia/Hong_Kong:20260420T145559
DTSTART;TZID=Asia/Hong_Kong:20170415T000000
DTEND;TZID=Asia/Hong_Kong:20170415T000000
LOCATION:Ping Yuan and Kinmay W Tang Gallery, Lee Shau Kee Library, HKUST   香港科技大學李兆基圖書館   唐炳源唐温金美展覽廳
SUMMARY:Library Exhibition - \"Sha Fei: A Humanist Photographer at War (1912-1950)\" 沙飛: 戰爭中的人文攝影師
UID:519
END:VEVENT
BEGIN:VEVENT
DTSTAMP;TZID=Asia/Hong_Kong:20260420T145559
DTSTART;TZID=Asia/Hong_Kong:20170416T000000
DTEND;TZID=Asia/Hong_Kong:20170416T000000
LOCATION:Ping Yuan and Kinmay W Tang Gallery, Lee Shau Kee Library, HKUST   香港科技大學李兆基圖書館   唐炳源唐温金美展覽廳
SUMMARY:Library Exhibition - \"Sha Fei: A Humanist Photographer at War (1912-1950)\" 沙飛: 戰爭中的人文攝影師
UID:519
END:VEVENT
BEGIN:VEVENT
DTSTAMP;TZID=Asia/Hong_Kong:20260420T145559
DTSTART;TZID=Asia/Hong_Kong:20170417T000000
DTEND;TZID=Asia/Hong_Kong:20170417T000000
LOCATION:Ping Yuan and Kinmay W Tang Gallery, Lee Shau Kee Library, HKUST   香港科技大學李兆基圖書館   唐炳源唐温金美展覽廳
SUMMARY:Library Exhibition - \"Sha Fei: A Humanist Photographer at War (1912-1950)\" 沙飛: 戰爭中的人文攝影師
UID:519
END:VEVENT
BEGIN:VEVENT
DTSTAMP;TZID=Asia/Hong_Kong:20260420T145559
DTSTART;TZID=Asia/Hong_Kong:20170418T000000
DTEND;TZID=Asia/Hong_Kong:20170418T000000
LOCATION:Ping Yuan and Kinmay W Tang Gallery, Lee Shau Kee Library, HKUST   香港科技大學李兆基圖書館   唐炳源唐温金美展覽廳
SUMMARY:Library Exhibition - \"Sha Fei: A Humanist Photographer at War (1912-1950)\" 沙飛: 戰爭中的人文攝影師
UID:519
END:VEVENT
BEGIN:VEVENT
DTSTAMP;TZID=Asia/Hong_Kong:20260420T145559
DTSTART;TZID=Asia/Hong_Kong:20170419T000000
DTEND;TZID=Asia/Hong_Kong:20170419T000000
LOCATION:Ping Yuan and Kinmay W Tang Gallery, Lee Shau Kee Library, HKUST   香港科技大學李兆基圖書館   唐炳源唐温金美展覽廳
SUMMARY:Library Exhibition - \"Sha Fei: A Humanist Photographer at War (1912-1950)\" 沙飛: 戰爭中的人文攝影師
UID:519
END:VEVENT
BEGIN:VEVENT
DTSTAMP;TZID=Asia/Hong_Kong:20260420T145559
DTSTART;TZID=Asia/Hong_Kong:20170420T000000
DTEND;TZID=Asia/Hong_Kong:20170420T000000
LOCATION:Ping Yuan and Kinmay W Tang Gallery, Lee Shau Kee Library, HKUST   香港科技大學李兆基圖書館   唐炳源唐温金美展覽廳
SUMMARY:Library Exhibition - \"Sha Fei: A Humanist Photographer at War (1912-1950)\" 沙飛: 戰爭中的人文攝影師
UID:519
END:VEVENT
BEGIN:VEVENT
DTSTAMP;TZID=Asia/Hong_Kong:20260420T145559
DTSTART;TZID=Asia/Hong_Kong:20170421T000000
DTEND;TZID=Asia/Hong_Kong:20170421T000000
LOCATION:Ping Yuan and Kinmay W Tang Gallery, Lee Shau Kee Library, HKUST   香港科技大學李兆基圖書館   唐炳源唐温金美展覽廳
SUMMARY:Library Exhibition - \"Sha Fei: A Humanist Photographer at War (1912-1950)\" 沙飛: 戰爭中的人文攝影師
UID:519
END:VEVENT
BEGIN:VEVENT
DTSTAMP;TZID=Asia/Hong_Kong:20260420T145559
DTSTART;TZID=Asia/Hong_Kong:20170422T000000
DTEND;TZID=Asia/Hong_Kong:20170422T000000
LOCATION:Ping Yuan and Kinmay W Tang Gallery, Lee Shau Kee Library, HKUST   香港科技大學李兆基圖書館   唐炳源唐温金美展覽廳
SUMMARY:Library Exhibition - \"Sha Fei: A Humanist Photographer at War (1912-1950)\" 沙飛: 戰爭中的人文攝影師
UID:519
END:VEVENT
BEGIN:VEVENT
DTSTAMP;TZID=Asia/Hong_Kong:20260420T145559
DTSTART;TZID=Asia/Hong_Kong:20170423T000000
DTEND;TZID=Asia/Hong_Kong:20170423T000000
LOCATION:Ping Yuan and Kinmay W Tang Gallery, Lee Shau Kee Library, HKUST   香港科技大學李兆基圖書館   唐炳源唐温金美展覽廳
SUMMARY:Library Exhibition - \"Sha Fei: A Humanist Photographer at War (1912-1950)\" 沙飛: 戰爭中的人文攝影師
UID:519
END:VEVENT
BEGIN:VEVENT
DTSTAMP;TZID=Asia/Hong_Kong:20260420T145559
DTSTART;TZID=Asia/Hong_Kong:20170424T000000
DTEND;TZID=Asia/Hong_Kong:20170424T000000
LOCATION:Ping Yuan and Kinmay W Tang Gallery, Lee Shau Kee Library, HKUST   香港科技大學李兆基圖書館   唐炳源唐温金美展覽廳
SUMMARY:Library Exhibition - \"Sha Fei: A Humanist Photographer at War (1912-1950)\" 沙飛: 戰爭中的人文攝影師
UID:519
END:VEVENT
BEGIN:VEVENT
DTSTAMP;TZID=Asia/Hong_Kong:20260420T145559
DTSTART;TZID=Asia/Hong_Kong:20170425T000000
DTEND;TZID=Asia/Hong_Kong:20170425T000000
LOCATION:Ping Yuan and Kinmay W Tang Gallery, Lee Shau Kee Library, HKUST   香港科技大學李兆基圖書館   唐炳源唐温金美展覽廳
SUMMARY:Library Exhibition - \"Sha Fei: A Humanist Photographer at War (1912-1950)\" 沙飛: 戰爭中的人文攝影師
UID:519
END:VEVENT
BEGIN:VEVENT
DTSTAMP;TZID=Asia/Hong_Kong:20260420T145559
DTSTART;TZID=Asia/Hong_Kong:20170426T000000
DTEND;TZID=Asia/Hong_Kong:20170426T000000
LOCATION:Ping Yuan and Kinmay W Tang Gallery, Lee Shau Kee Library, HKUST   香港科技大學李兆基圖書館   唐炳源唐温金美展覽廳
SUMMARY:Library Exhibition - \"Sha Fei: A Humanist Photographer at War (1912-1950)\" 沙飛: 戰爭中的人文攝影師
UID:519
END:VEVENT
BEGIN:VEVENT
DTSTAMP;TZID=Asia/Hong_Kong:20260420T145559
DTSTART;TZID=Asia/Hong_Kong:20170427T000000
DTEND;TZID=Asia/Hong_Kong:20170427T000000
LOCATION:Ping Yuan and Kinmay W Tang Gallery, Lee Shau Kee Library, HKUST   香港科技大學李兆基圖書館   唐炳源唐温金美展覽廳
SUMMARY:Library Exhibition - \"Sha Fei: A Humanist Photographer at War (1912-1950)\" 沙飛: 戰爭中的人文攝影師
UID:519
END:VEVENT
BEGIN:VEVENT
DTSTAMP;TZID=Asia/Hong_Kong:20260420T145559
DTSTART;TZID=Asia/Hong_Kong:20170428T000000
DTEND;TZID=Asia/Hong_Kong:20170428T000000
LOCATION:Ping Yuan and Kinmay W Tang Gallery, Lee Shau Kee Library, HKUST   香港科技大學李兆基圖書館   唐炳源唐温金美展覽廳
SUMMARY:Library Exhibition - \"Sha Fei: A Humanist Photographer at War (1912-1950)\" 沙飛: 戰爭中的人文攝影師
UID:519
END:VEVENT
BEGIN:VEVENT
DTSTAMP;TZID=Asia/Hong_Kong:20260420T145559
DTSTART;TZID=Asia/Hong_Kong:20170429T000000
DTEND;TZID=Asia/Hong_Kong:20170429T000000
LOCATION:Ping Yuan and Kinmay W Tang Gallery, Lee Shau Kee Library, HKUST   香港科技大學李兆基圖書館   唐炳源唐温金美展覽廳
SUMMARY:Library Exhibition - \"Sha Fei: A Humanist Photographer at War (1912-1950)\" 沙飛: 戰爭中的人文攝影師
UID:519
END:VEVENT
BEGIN:VEVENT
DTSTAMP;TZID=Asia/Hong_Kong:20260420T145559
DTSTART;TZID=Asia/Hong_Kong:20170430T000000
DTEND;TZID=Asia/Hong_Kong:20170430T000000
LOCATION:Ping Yuan and Kinmay W Tang Gallery, Lee Shau Kee Library, HKUST   香港科技大學李兆基圖書館   唐炳源唐温金美展覽廳
SUMMARY:Library Exhibition - \"Sha Fei: A Humanist Photographer at War (1912-1950)\" 沙飛: 戰爭中的人文攝影師
UID:519
END:VEVENT
BEGIN:VEVENT
DTSTAMP;TZID=Asia/Hong_Kong:20260420T145559
DTSTART;TZID=Asia/Hong_Kong:20170501T000000
DTEND;TZID=Asia/Hong_Kong:20170501T000000
LOCATION:Ping Yuan and Kinmay W Tang Gallery, Lee Shau Kee Library, HKUST   香港科技大學李兆基圖書館   唐炳源唐温金美展覽廳
SUMMARY:Library Exhibition - \"Sha Fei: A Humanist Photographer at War (1912-1950)\" 沙飛: 戰爭中的人文攝影師
UID:519
END:VEVENT
BEGIN:VEVENT
DTSTAMP;TZID=Asia/Hong_Kong:20260420T145559
DTSTART;TZID=Asia/Hong_Kong:20170502T000000
DTEND;TZID=Asia/Hong_Kong:20170502T000000
LOCATION:Ping Yuan and Kinmay W Tang Gallery, Lee Shau Kee Library, HKUST   香港科技大學李兆基圖書館   唐炳源唐温金美展覽廳
SUMMARY:Library Exhibition - \"Sha Fei: A Humanist Photographer at War (1912-1950)\" 沙飛: 戰爭中的人文攝影師
UID:519
END:VEVENT
BEGIN:VEVENT
DTSTAMP;TZID=Asia/Hong_Kong:20260420T145559
DTSTART;TZID=Asia/Hong_Kong:20170503T000000
DTEND;TZID=Asia/Hong_Kong:20170503T000000
LOCATION:Ping Yuan and Kinmay W Tang Gallery, Lee Shau Kee Library, HKUST   香港科技大學李兆基圖書館   唐炳源唐温金美展覽廳
SUMMARY:Library Exhibition - \"Sha Fei: A Humanist Photographer at War (1912-1950)\" 沙飛: 戰爭中的人文攝影師
UID:519
END:VEVENT
END:VCALENDAR