BEGIN:VCALENDAR
PRODID:-//HKUST Drupal Platform//EN
VERSION:2.0
BEGIN:VTIMEZONE
TZID:Asia/Hong_Kong
BEGIN:STANDARD
DTSTART:20071104T020000
TZOFFSETFROM:+0700
TZOFFSETTO:+0800
TZNAME:HKT
END:STANDARD
END:VTIMEZONE
BEGIN:VEVENT
DTSTAMP;TZID=Asia/Hong_Kong:20260420T143028
DTSTART;TZID=Asia/Hong_Kong:20180703T100000
DTEND;TZID=Asia/Hong_Kong:20180703T120000
LOCATION:Room 3401, Academic Building (Lift no. 13-15)
SUMMARY:本體上著工夫—從朱子到明末工夫論的一項轉進
UID:426
END:VEVENT
END:VCALENDAR