BEGIN:VCALENDAR
PRODID:-//HKUST Drupal Platform//EN
VERSION:2.0
BEGIN:VTIMEZONE
TZID:Asia/Hong_Kong
BEGIN:STANDARD
DTSTART:20071104T020000
TZOFFSETFROM:+0700
TZOFFSETTO:+0800
TZNAME:HKT
END:STANDARD
END:VTIMEZONE
BEGIN:VEVENT
DTSTAMP;TZID=Asia/Hong_Kong:20260420T203142
DTSTART;TZID=Asia/Hong_Kong:20180717T170000
DTEND;TZID=Asia/Hong_Kong:20180717T190000
LOCATION:香港科技大學學術大樓3401室(17-18號電梯）
SUMMARY:土著知識、生物多樣性和發展----雲南景邁山古茶林的傳統管理
UID:425
END:VEVENT
END:VCALENDAR