BEGIN:VCALENDAR
PRODID:-//HKUST Drupal Platform//EN
VERSION:2.0
BEGIN:VTIMEZONE
TZID:Asia/Hong_Kong
BEGIN:STANDARD
DTSTART:20071104T020000
TZOFFSETFROM:+0700
TZOFFSETTO:+0800
TZNAME:HKT
END:STANDARD
END:VTIMEZONE
BEGIN:VEVENT
DTSTAMP;TZID=Asia/Hong_Kong:20260419T215815
DTSTART;TZID=Asia/Hong_Kong:20181114T163000
DTEND;TZID=Asia/Hong_Kong:20181114T180000
LOCATION:Room 3598, Academic Building (Lifts no. 27-28)
SUMMARY:Winds, Dreams, Theater:  A Genealogy of Emotion-Realms through the Lens of The Peony Pavilion
UID:410
END:VEVENT
END:VCALENDAR