BEGIN:VCALENDAR
PRODID:-//HKUST Drupal Platform//EN
VERSION:2.0
BEGIN:VTIMEZONE
TZID:Asia/Hong_Kong
BEGIN:STANDARD
DTSTART:20071104T020000
TZOFFSETFROM:+0700
TZOFFSETTO:+0800
TZNAME:HKT
END:STANDARD
END:VTIMEZONE
BEGIN:VEVENT
DTSTAMP;TZID=Asia/Hong_Kong:20260420T185723
DTSTART;TZID=Asia/Hong_Kong:20181126T160000
DTEND;TZID=Asia/Hong_Kong:20181126T173000
LOCATION:Room 3301, Academic Building Lift no. 2
SUMMARY:China and the Maritime Silk Routes:  The Role of China’s Contacts with the Asia-Pacific and the Viceroyalty of Peru in Early Modern Times
UID:408
END:VEVENT
END:VCALENDAR