BEGIN:VCALENDAR
PRODID:-//HKUST Drupal Platform//EN
VERSION:2.0
BEGIN:VTIMEZONE
TZID:Asia/Hong_Kong
BEGIN:STANDARD
DTSTART:20071104T020000
TZOFFSETFROM:+0700
TZOFFSETTO:+0800
TZNAME:HKT
END:STANDARD
END:VTIMEZONE
BEGIN:VEVENT
DTSTAMP;TZID=Asia/Hong_Kong:20260420T152820
DTSTART;TZID=Asia/Hong_Kong:20190412T100000
DTEND;TZID=Asia/Hong_Kong:20190412T120000
LOCATION:3401室 學術大樓 (2號電梯)
SUMMARY:20世紀早期日本知識青年對香港的印象- 以東亞同文書院生《大旅行誌》 大正期的紀錄為中心
UID:398
END:VEVENT
END:VCALENDAR