BEGIN:VCALENDAR
PRODID:-//HKUST Drupal Platform//EN
VERSION:2.0
BEGIN:VTIMEZONE
TZID:Asia/Hong_Kong
BEGIN:STANDARD
DTSTART:20071104T020000
TZOFFSETFROM:+0700
TZOFFSETTO:+0800
TZNAME:HKT
END:STANDARD
END:VTIMEZONE
BEGIN:VEVENT
DTSTAMP;TZID=Asia/Hong_Kong:20260420T084913
DTSTART;TZID=Asia/Hong_Kong:20190416T120000
DTEND;TZID=Asia/Hong_Kong:20190416T145000
LOCATION:Chen Kuan Cheng Forum (LTH-H)
SUMMARY:Vanished Archives 《消失的檔案》:  How to Uncover Hong Kong History through Oral History
UID:395
END:VEVENT
END:VCALENDAR