BEGIN:VCALENDAR
PRODID:-//HKUST Drupal Platform//EN
VERSION:2.0
BEGIN:VTIMEZONE
TZID:Asia/Hong_Kong
BEGIN:STANDARD
DTSTART:20071104T020000
TZOFFSETFROM:+0700
TZOFFSETTO:+0800
TZNAME:HKT
END:STANDARD
END:VTIMEZONE
BEGIN:VEVENT
DTSTAMP;TZID=Asia/Hong_Kong:20260420T153738
DTSTART;TZID=Asia/Hong_Kong:20190424T103000
DTEND;TZID=Asia/Hong_Kong:20190424T120000
LOCATION:3401室 學術大樓 (2號電梯)
SUMMARY:分析與境界之間——馮友蘭新理學的方法
UID:393
END:VEVENT
END:VCALENDAR