BEGIN:VCALENDAR
PRODID:-//HKUST Drupal Platform//EN
VERSION:2.0
BEGIN:VTIMEZONE
TZID:Asia/Hong_Kong
BEGIN:STANDARD
DTSTART:20071104T020000
TZOFFSETFROM:+0700
TZOFFSETTO:+0800
TZNAME:HKT
END:STANDARD
END:VTIMEZONE
BEGIN:VEVENT
DTSTAMP;TZID=Asia/Hong_Kong:20260420T145558
DTSTART;TZID=Asia/Hong_Kong:20190506T163000
DTEND;TZID=Asia/Hong_Kong:20190506T183000
LOCATION:3401室 學術大樓 (2號電梯)
SUMMARY:西南少數民族史與區域社會：以巍山彝族史為例
UID:392
END:VEVENT
END:VCALENDAR