BEGIN:VCALENDAR
PRODID:-//HKUST Drupal Platform//EN
VERSION:2.0
BEGIN:VTIMEZONE
TZID:Asia/Hong_Kong
BEGIN:STANDARD
DTSTART:20071104T020000
TZOFFSETFROM:+0700
TZOFFSETTO:+0800
TZNAME:HKT
END:STANDARD
END:VTIMEZONE
BEGIN:VEVENT
DTSTAMP;TZID=Asia/Hong_Kong:20260420T155330
DTSTART;TZID=Asia/Hong_Kong:20190914T090000
DTEND;TZID=Asia/Hong_Kong:20190914T180000
LOCATION:TBC
SUMMARY:Fall 2019 Field Trips  秋季田野考察 - Fall 2019 Field Trips  秋季田野考察
UID:372
END:VEVENT
BEGIN:VEVENT
DTSTAMP;TZID=Asia/Hong_Kong:20260420T155330
DTSTART;TZID=Asia/Hong_Kong:20190915T090000
DTEND;TZID=Asia/Hong_Kong:20190915T180000
LOCATION:TBC
SUMMARY:Fall 2019 Field Trips  秋季田野考察 - Fall 2019 Field Trips  秋季田野考察
UID:372
END:VEVENT
BEGIN:VEVENT
DTSTAMP;TZID=Asia/Hong_Kong:20260420T155330
DTSTART;TZID=Asia/Hong_Kong:20190916T090000
DTEND;TZID=Asia/Hong_Kong:20190916T180000
LOCATION:TBC
SUMMARY:Fall 2019 Field Trips  秋季田野考察 - Fall 2019 Field Trips  秋季田野考察
UID:372
END:VEVENT
BEGIN:VEVENT
DTSTAMP;TZID=Asia/Hong_Kong:20260420T155330
DTSTART;TZID=Asia/Hong_Kong:20190917T090000
DTEND;TZID=Asia/Hong_Kong:20190917T180000
LOCATION:TBC
SUMMARY:Fall 2019 Field Trips  秋季田野考察 - Fall 2019 Field Trips  秋季田野考察
UID:372
END:VEVENT
BEGIN:VEVENT
DTSTAMP;TZID=Asia/Hong_Kong:20260420T155330
DTSTART;TZID=Asia/Hong_Kong:20190918T090000
DTEND;TZID=Asia/Hong_Kong:20190918T180000
LOCATION:TBC
SUMMARY:Fall 2019 Field Trips  秋季田野考察 - Fall 2019 Field Trips  秋季田野考察
UID:372
END:VEVENT
BEGIN:VEVENT
DTSTAMP;TZID=Asia/Hong_Kong:20260420T155330
DTSTART;TZID=Asia/Hong_Kong:20190919T090000
DTEND;TZID=Asia/Hong_Kong:20190919T180000
LOCATION:TBC
SUMMARY:Fall 2019 Field Trips  秋季田野考察 - Fall 2019 Field Trips  秋季田野考察
UID:372
END:VEVENT
BEGIN:VEVENT
DTSTAMP;TZID=Asia/Hong_Kong:20260420T155330
DTSTART;TZID=Asia/Hong_Kong:20190920T090000
DTEND;TZID=Asia/Hong_Kong:20190920T180000
LOCATION:TBC
SUMMARY:Fall 2019 Field Trips  秋季田野考察 - Fall 2019 Field Trips  秋季田野考察
UID:372
END:VEVENT
BEGIN:VEVENT
DTSTAMP;TZID=Asia/Hong_Kong:20260420T155330
DTSTART;TZID=Asia/Hong_Kong:20190921T090000
DTEND;TZID=Asia/Hong_Kong:20190921T180000
LOCATION:TBC
SUMMARY:Fall 2019 Field Trips  秋季田野考察 - Fall 2019 Field Trips  秋季田野考察
UID:372
END:VEVENT
BEGIN:VEVENT
DTSTAMP;TZID=Asia/Hong_Kong:20260420T155330
DTSTART;TZID=Asia/Hong_Kong:20190922T090000
DTEND;TZID=Asia/Hong_Kong:20190922T180000
LOCATION:TBC
SUMMARY:Fall 2019 Field Trips  秋季田野考察 - Fall 2019 Field Trips  秋季田野考察
UID:372
END:VEVENT
BEGIN:VEVENT
DTSTAMP;TZID=Asia/Hong_Kong:20260420T155330
DTSTART;TZID=Asia/Hong_Kong:20190923T090000
DTEND;TZID=Asia/Hong_Kong:20190923T180000
LOCATION:TBC
SUMMARY:Fall 2019 Field Trips  秋季田野考察 - Fall 2019 Field Trips  秋季田野考察
UID:372
END:VEVENT
BEGIN:VEVENT
DTSTAMP;TZID=Asia/Hong_Kong:20260420T155330
DTSTART;TZID=Asia/Hong_Kong:20190924T090000
DTEND;TZID=Asia/Hong_Kong:20190924T180000
LOCATION:TBC
SUMMARY:Fall 2019 Field Trips  秋季田野考察 - Fall 2019 Field Trips  秋季田野考察
UID:372
END:VEVENT
BEGIN:VEVENT
DTSTAMP;TZID=Asia/Hong_Kong:20260420T155330
DTSTART;TZID=Asia/Hong_Kong:20190925T090000
DTEND;TZID=Asia/Hong_Kong:20190925T180000
LOCATION:TBC
SUMMARY:Fall 2019 Field Trips  秋季田野考察 - Fall 2019 Field Trips  秋季田野考察
UID:372
END:VEVENT
BEGIN:VEVENT
DTSTAMP;TZID=Asia/Hong_Kong:20260420T155330
DTSTART;TZID=Asia/Hong_Kong:20190926T090000
DTEND;TZID=Asia/Hong_Kong:20190926T180000
LOCATION:TBC
SUMMARY:Fall 2019 Field Trips  秋季田野考察 - Fall 2019 Field Trips  秋季田野考察
UID:372
END:VEVENT
BEGIN:VEVENT
DTSTAMP;TZID=Asia/Hong_Kong:20260420T155330
DTSTART;TZID=Asia/Hong_Kong:20190927T090000
DTEND;TZID=Asia/Hong_Kong:20190927T180000
LOCATION:TBC
SUMMARY:Fall 2019 Field Trips  秋季田野考察 - Fall 2019 Field Trips  秋季田野考察
UID:372
END:VEVENT
BEGIN:VEVENT
DTSTAMP;TZID=Asia/Hong_Kong:20260420T155330
DTSTART;TZID=Asia/Hong_Kong:20190928T090000
DTEND;TZID=Asia/Hong_Kong:20190928T180000
LOCATION:TBC
SUMMARY:Fall 2019 Field Trips  秋季田野考察 - Fall 2019 Field Trips  秋季田野考察
UID:372
END:VEVENT
BEGIN:VEVENT
DTSTAMP;TZID=Asia/Hong_Kong:20260420T155330
DTSTART;TZID=Asia/Hong_Kong:20190929T090000
DTEND;TZID=Asia/Hong_Kong:20190929T180000
LOCATION:TBC
SUMMARY:Fall 2019 Field Trips  秋季田野考察 - Fall 2019 Field Trips  秋季田野考察
UID:372
END:VEVENT
BEGIN:VEVENT
DTSTAMP;TZID=Asia/Hong_Kong:20260420T155330
DTSTART;TZID=Asia/Hong_Kong:20190930T090000
DTEND;TZID=Asia/Hong_Kong:20190930T180000
LOCATION:TBC
SUMMARY:Fall 2019 Field Trips  秋季田野考察 - Fall 2019 Field Trips  秋季田野考察
UID:372
END:VEVENT
BEGIN:VEVENT
DTSTAMP;TZID=Asia/Hong_Kong:20260420T155330
DTSTART;TZID=Asia/Hong_Kong:20191001T090000
DTEND;TZID=Asia/Hong_Kong:20191001T180000
LOCATION:TBC
SUMMARY:Fall 2019 Field Trips  秋季田野考察 - Fall 2019 Field Trips  秋季田野考察
UID:372
END:VEVENT
BEGIN:VEVENT
DTSTAMP;TZID=Asia/Hong_Kong:20260420T155330
DTSTART;TZID=Asia/Hong_Kong:20191002T090000
DTEND;TZID=Asia/Hong_Kong:20191002T180000
LOCATION:TBC
SUMMARY:Fall 2019 Field Trips  秋季田野考察 - Fall 2019 Field Trips  秋季田野考察
UID:372
END:VEVENT
BEGIN:VEVENT
DTSTAMP;TZID=Asia/Hong_Kong:20260420T155330
DTSTART;TZID=Asia/Hong_Kong:20191003T090000
DTEND;TZID=Asia/Hong_Kong:20191003T180000
LOCATION:TBC
SUMMARY:Fall 2019 Field Trips  秋季田野考察 - Fall 2019 Field Trips  秋季田野考察
UID:372
END:VEVENT
BEGIN:VEVENT
DTSTAMP;TZID=Asia/Hong_Kong:20260420T155330
DTSTART;TZID=Asia/Hong_Kong:20191004T090000
DTEND;TZID=Asia/Hong_Kong:20191004T180000
LOCATION:TBC
SUMMARY:Fall 2019 Field Trips  秋季田野考察 - Fall 2019 Field Trips  秋季田野考察
UID:372
END:VEVENT
BEGIN:VEVENT
DTSTAMP;TZID=Asia/Hong_Kong:20260420T155330
DTSTART;TZID=Asia/Hong_Kong:20191005T090000
DTEND;TZID=Asia/Hong_Kong:20191005T180000
LOCATION:TBC
SUMMARY:Fall 2019 Field Trips  秋季田野考察 - Fall 2019 Field Trips  秋季田野考察
UID:372
END:VEVENT
BEGIN:VEVENT
DTSTAMP;TZID=Asia/Hong_Kong:20260420T155330
DTSTART;TZID=Asia/Hong_Kong:20191006T090000
DTEND;TZID=Asia/Hong_Kong:20191006T180000
LOCATION:TBC
SUMMARY:Fall 2019 Field Trips  秋季田野考察 - Fall 2019 Field Trips  秋季田野考察
UID:372
END:VEVENT
BEGIN:VEVENT
DTSTAMP;TZID=Asia/Hong_Kong:20260420T155330
DTSTART;TZID=Asia/Hong_Kong:20191007T090000
DTEND;TZID=Asia/Hong_Kong:20191007T180000
LOCATION:TBC
SUMMARY:Fall 2019 Field Trips  秋季田野考察 - Fall 2019 Field Trips  秋季田野考察
UID:372
END:VEVENT
BEGIN:VEVENT
DTSTAMP;TZID=Asia/Hong_Kong:20260420T155330
DTSTART;TZID=Asia/Hong_Kong:20191008T090000
DTEND;TZID=Asia/Hong_Kong:20191008T180000
LOCATION:TBC
SUMMARY:Fall 2019 Field Trips  秋季田野考察 - Fall 2019 Field Trips  秋季田野考察
UID:372
END:VEVENT
BEGIN:VEVENT
DTSTAMP;TZID=Asia/Hong_Kong:20260420T155330
DTSTART;TZID=Asia/Hong_Kong:20191009T090000
DTEND;TZID=Asia/Hong_Kong:20191009T180000
LOCATION:TBC
SUMMARY:Fall 2019 Field Trips  秋季田野考察 - Fall 2019 Field Trips  秋季田野考察
UID:372
END:VEVENT
BEGIN:VEVENT
DTSTAMP;TZID=Asia/Hong_Kong:20260420T155330
DTSTART;TZID=Asia/Hong_Kong:20191010T090000
DTEND;TZID=Asia/Hong_Kong:20191010T180000
LOCATION:TBC
SUMMARY:Fall 2019 Field Trips  秋季田野考察 - Fall 2019 Field Trips  秋季田野考察
UID:372
END:VEVENT
BEGIN:VEVENT
DTSTAMP;TZID=Asia/Hong_Kong:20260420T155330
DTSTART;TZID=Asia/Hong_Kong:20191011T090000
DTEND;TZID=Asia/Hong_Kong:20191011T180000
LOCATION:TBC
SUMMARY:Fall 2019 Field Trips  秋季田野考察 - Fall 2019 Field Trips  秋季田野考察
UID:372
END:VEVENT
BEGIN:VEVENT
DTSTAMP;TZID=Asia/Hong_Kong:20260420T155330
DTSTART;TZID=Asia/Hong_Kong:20191012T090000
DTEND;TZID=Asia/Hong_Kong:20191012T180000
LOCATION:TBC
SUMMARY:Fall 2019 Field Trips  秋季田野考察 - Fall 2019 Field Trips  秋季田野考察
UID:372
END:VEVENT
BEGIN:VEVENT
DTSTAMP;TZID=Asia/Hong_Kong:20260420T155330
DTSTART;TZID=Asia/Hong_Kong:20191013T090000
DTEND;TZID=Asia/Hong_Kong:20191013T180000
LOCATION:TBC
SUMMARY:Fall 2019 Field Trips  秋季田野考察 - Fall 2019 Field Trips  秋季田野考察
UID:372
END:VEVENT
BEGIN:VEVENT
DTSTAMP;TZID=Asia/Hong_Kong:20260420T155330
DTSTART;TZID=Asia/Hong_Kong:20191014T090000
DTEND;TZID=Asia/Hong_Kong:20191014T180000
LOCATION:TBC
SUMMARY:Fall 2019 Field Trips  秋季田野考察 - Fall 2019 Field Trips  秋季田野考察
UID:372
END:VEVENT
BEGIN:VEVENT
DTSTAMP;TZID=Asia/Hong_Kong:20260420T155330
DTSTART;TZID=Asia/Hong_Kong:20191015T090000
DTEND;TZID=Asia/Hong_Kong:20191015T180000
LOCATION:TBC
SUMMARY:Fall 2019 Field Trips  秋季田野考察 - Fall 2019 Field Trips  秋季田野考察
UID:372
END:VEVENT
BEGIN:VEVENT
DTSTAMP;TZID=Asia/Hong_Kong:20260420T155330
DTSTART;TZID=Asia/Hong_Kong:20191016T090000
DTEND;TZID=Asia/Hong_Kong:20191016T180000
LOCATION:TBC
SUMMARY:Fall 2019 Field Trips  秋季田野考察 - Fall 2019 Field Trips  秋季田野考察
UID:372
END:VEVENT
BEGIN:VEVENT
DTSTAMP;TZID=Asia/Hong_Kong:20260420T155330
DTSTART;TZID=Asia/Hong_Kong:20191017T090000
DTEND;TZID=Asia/Hong_Kong:20191017T180000
LOCATION:TBC
SUMMARY:Fall 2019 Field Trips  秋季田野考察 - Fall 2019 Field Trips  秋季田野考察
UID:372
END:VEVENT
BEGIN:VEVENT
DTSTAMP;TZID=Asia/Hong_Kong:20260420T155330
DTSTART;TZID=Asia/Hong_Kong:20191018T090000
DTEND;TZID=Asia/Hong_Kong:20191018T180000
LOCATION:TBC
SUMMARY:Fall 2019 Field Trips  秋季田野考察 - Fall 2019 Field Trips  秋季田野考察
UID:372
END:VEVENT
BEGIN:VEVENT
DTSTAMP;TZID=Asia/Hong_Kong:20260420T155330
DTSTART;TZID=Asia/Hong_Kong:20191019T090000
DTEND;TZID=Asia/Hong_Kong:20191019T180000
LOCATION:TBC
SUMMARY:Fall 2019 Field Trips  秋季田野考察 - Fall 2019 Field Trips  秋季田野考察
UID:372
END:VEVENT
BEGIN:VEVENT
DTSTAMP;TZID=Asia/Hong_Kong:20260420T155330
DTSTART;TZID=Asia/Hong_Kong:20191020T090000
DTEND;TZID=Asia/Hong_Kong:20191020T180000
LOCATION:TBC
SUMMARY:Fall 2019 Field Trips  秋季田野考察 - Fall 2019 Field Trips  秋季田野考察
UID:372
END:VEVENT
BEGIN:VEVENT
DTSTAMP;TZID=Asia/Hong_Kong:20260420T155330
DTSTART;TZID=Asia/Hong_Kong:20191021T090000
DTEND;TZID=Asia/Hong_Kong:20191021T180000
LOCATION:TBC
SUMMARY:Fall 2019 Field Trips  秋季田野考察 - Fall 2019 Field Trips  秋季田野考察
UID:372
END:VEVENT
BEGIN:VEVENT
DTSTAMP;TZID=Asia/Hong_Kong:20260420T155330
DTSTART;TZID=Asia/Hong_Kong:20191022T090000
DTEND;TZID=Asia/Hong_Kong:20191022T180000
LOCATION:TBC
SUMMARY:Fall 2019 Field Trips  秋季田野考察 - Fall 2019 Field Trips  秋季田野考察
UID:372
END:VEVENT
BEGIN:VEVENT
DTSTAMP;TZID=Asia/Hong_Kong:20260420T155330
DTSTART;TZID=Asia/Hong_Kong:20191023T090000
DTEND;TZID=Asia/Hong_Kong:20191023T180000
LOCATION:TBC
SUMMARY:Fall 2019 Field Trips  秋季田野考察 - Fall 2019 Field Trips  秋季田野考察
UID:372
END:VEVENT
BEGIN:VEVENT
DTSTAMP;TZID=Asia/Hong_Kong:20260420T155330
DTSTART;TZID=Asia/Hong_Kong:20191024T090000
DTEND;TZID=Asia/Hong_Kong:20191024T180000
LOCATION:TBC
SUMMARY:Fall 2019 Field Trips  秋季田野考察 - Fall 2019 Field Trips  秋季田野考察
UID:372
END:VEVENT
BEGIN:VEVENT
DTSTAMP;TZID=Asia/Hong_Kong:20260420T155330
DTSTART;TZID=Asia/Hong_Kong:20191025T090000
DTEND;TZID=Asia/Hong_Kong:20191025T180000
LOCATION:TBC
SUMMARY:Fall 2019 Field Trips  秋季田野考察 - Fall 2019 Field Trips  秋季田野考察
UID:372
END:VEVENT
BEGIN:VEVENT
DTSTAMP;TZID=Asia/Hong_Kong:20260420T155330
DTSTART;TZID=Asia/Hong_Kong:20191026T090000
DTEND;TZID=Asia/Hong_Kong:20191026T180000
LOCATION:TBC
SUMMARY:Fall 2019 Field Trips  秋季田野考察 - Fall 2019 Field Trips  秋季田野考察
UID:372
END:VEVENT
BEGIN:VEVENT
DTSTAMP;TZID=Asia/Hong_Kong:20260420T155330
DTSTART;TZID=Asia/Hong_Kong:20191027T090000
DTEND;TZID=Asia/Hong_Kong:20191027T180000
LOCATION:TBC
SUMMARY:Fall 2019 Field Trips  秋季田野考察 - Fall 2019 Field Trips  秋季田野考察
UID:372
END:VEVENT
BEGIN:VEVENT
DTSTAMP;TZID=Asia/Hong_Kong:20260420T155330
DTSTART;TZID=Asia/Hong_Kong:20191028T090000
DTEND;TZID=Asia/Hong_Kong:20191028T180000
LOCATION:TBC
SUMMARY:Fall 2019 Field Trips  秋季田野考察 - Fall 2019 Field Trips  秋季田野考察
UID:372
END:VEVENT
BEGIN:VEVENT
DTSTAMP;TZID=Asia/Hong_Kong:20260420T155330
DTSTART;TZID=Asia/Hong_Kong:20191029T090000
DTEND;TZID=Asia/Hong_Kong:20191029T180000
LOCATION:TBC
SUMMARY:Fall 2019 Field Trips  秋季田野考察 - Fall 2019 Field Trips  秋季田野考察
UID:372
END:VEVENT
BEGIN:VEVENT
DTSTAMP;TZID=Asia/Hong_Kong:20260420T155330
DTSTART;TZID=Asia/Hong_Kong:20191030T090000
DTEND;TZID=Asia/Hong_Kong:20191030T180000
LOCATION:TBC
SUMMARY:Fall 2019 Field Trips  秋季田野考察 - Fall 2019 Field Trips  秋季田野考察
UID:372
END:VEVENT
BEGIN:VEVENT
DTSTAMP;TZID=Asia/Hong_Kong:20260420T155330
DTSTART;TZID=Asia/Hong_Kong:20191031T090000
DTEND;TZID=Asia/Hong_Kong:20191031T180000
LOCATION:TBC
SUMMARY:Fall 2019 Field Trips  秋季田野考察 - Fall 2019 Field Trips  秋季田野考察
UID:372
END:VEVENT
BEGIN:VEVENT
DTSTAMP;TZID=Asia/Hong_Kong:20260420T155330
DTSTART;TZID=Asia/Hong_Kong:20191101T090000
DTEND;TZID=Asia/Hong_Kong:20191101T180000
LOCATION:TBC
SUMMARY:Fall 2019 Field Trips  秋季田野考察 - Fall 2019 Field Trips  秋季田野考察
UID:372
END:VEVENT
BEGIN:VEVENT
DTSTAMP;TZID=Asia/Hong_Kong:20260420T155330
DTSTART;TZID=Asia/Hong_Kong:20191102T090000
DTEND;TZID=Asia/Hong_Kong:20191102T180000
LOCATION:TBC
SUMMARY:Fall 2019 Field Trips  秋季田野考察 - Fall 2019 Field Trips  秋季田野考察
UID:372
END:VEVENT
BEGIN:VEVENT
DTSTAMP;TZID=Asia/Hong_Kong:20260420T155330
DTSTART;TZID=Asia/Hong_Kong:20191103T090000
DTEND;TZID=Asia/Hong_Kong:20191103T180000
LOCATION:TBC
SUMMARY:Fall 2019 Field Trips  秋季田野考察 - Fall 2019 Field Trips  秋季田野考察
UID:372
END:VEVENT
BEGIN:VEVENT
DTSTAMP;TZID=Asia/Hong_Kong:20260420T155330
DTSTART;TZID=Asia/Hong_Kong:20191104T090000
DTEND;TZID=Asia/Hong_Kong:20191104T180000
LOCATION:TBC
SUMMARY:Fall 2019 Field Trips  秋季田野考察 - Fall 2019 Field Trips  秋季田野考察
UID:372
END:VEVENT
BEGIN:VEVENT
DTSTAMP;TZID=Asia/Hong_Kong:20260420T155330
DTSTART;TZID=Asia/Hong_Kong:20191105T090000
DTEND;TZID=Asia/Hong_Kong:20191105T180000
LOCATION:TBC
SUMMARY:Fall 2019 Field Trips  秋季田野考察 - Fall 2019 Field Trips  秋季田野考察
UID:372
END:VEVENT
BEGIN:VEVENT
DTSTAMP;TZID=Asia/Hong_Kong:20260420T155330
DTSTART;TZID=Asia/Hong_Kong:20191106T090000
DTEND;TZID=Asia/Hong_Kong:20191106T180000
LOCATION:TBC
SUMMARY:Fall 2019 Field Trips  秋季田野考察 - Fall 2019 Field Trips  秋季田野考察
UID:372
END:VEVENT
BEGIN:VEVENT
DTSTAMP;TZID=Asia/Hong_Kong:20260420T155330
DTSTART;TZID=Asia/Hong_Kong:20191107T090000
DTEND;TZID=Asia/Hong_Kong:20191107T180000
LOCATION:TBC
SUMMARY:Fall 2019 Field Trips  秋季田野考察 - Fall 2019 Field Trips  秋季田野考察
UID:372
END:VEVENT
BEGIN:VEVENT
DTSTAMP;TZID=Asia/Hong_Kong:20260420T155330
DTSTART;TZID=Asia/Hong_Kong:20191108T090000
DTEND;TZID=Asia/Hong_Kong:20191108T180000
LOCATION:TBC
SUMMARY:Fall 2019 Field Trips  秋季田野考察 - Fall 2019 Field Trips  秋季田野考察
UID:372
END:VEVENT
BEGIN:VEVENT
DTSTAMP;TZID=Asia/Hong_Kong:20260420T155330
DTSTART;TZID=Asia/Hong_Kong:20191109T090000
DTEND;TZID=Asia/Hong_Kong:20191109T180000
LOCATION:TBC
SUMMARY:Fall 2019 Field Trips  秋季田野考察 - Fall 2019 Field Trips  秋季田野考察
UID:372
END:VEVENT
END:VCALENDAR