BEGIN:VCALENDAR
PRODID:-//HKUST Drupal Platform//EN
VERSION:2.0
BEGIN:VTIMEZONE
TZID:Asia/Hong_Kong
BEGIN:STANDARD
DTSTART:20071104T020000
TZOFFSETFROM:+0700
TZOFFSETTO:+0800
TZNAME:HKT
END:STANDARD
END:VTIMEZONE
BEGIN:VEVENT
DTSTAMP;TZID=Asia/Hong_Kong:20260420T145557
DTSTART;TZID=Asia/Hong_Kong:20190929T120000
DTEND;TZID=Asia/Hong_Kong:20190929T130000
LOCATION:TBC
SUMMARY:Fall 2019 Field Trips  秋季田野考察 - Ping Shan Lineage Organization and Local Heritage  屏山宗族組織與地方文物
UID:371
END:VEVENT
END:VCALENDAR