BEGIN:VCALENDAR
PRODID:-//HKUST Drupal Platform//EN
VERSION:2.0
BEGIN:VTIMEZONE
TZID:Asia/Hong_Kong
BEGIN:STANDARD
DTSTART:20071104T020000
TZOFFSETFROM:+0700
TZOFFSETTO:+0800
TZNAME:HKT
END:STANDARD
END:VTIMEZONE
BEGIN:VEVENT
DTSTAMP;TZID=Asia/Hong_Kong:20260420T152820
DTSTART;TZID=Asia/Hong_Kong:20191107T163000
DTEND;TZID=Asia/Hong_Kong:20191107T181500
LOCATION:香港科技大學學術大樓3401課室(2號電梯)
SUMMARY:語音關聯對漢字書寫的作用： 對漢語二語學習者書寫偏誤及學習策略的分析 Impact of Phonological Correlations on Chinese-characters Writing: the analysis of writing errors and learning strategies of CSL Learners
UID:367
END:VEVENT
END:VCALENDAR