BEGIN:VCALENDAR
PRODID:-//HKUST Drupal Platform//EN
VERSION:2.0
BEGIN:VTIMEZONE
TZID:Asia/Hong_Kong
BEGIN:STANDARD
DTSTART:20071104T020000
TZOFFSETFROM:+0700
TZOFFSETTO:+0800
TZNAME:HKT
END:STANDARD
END:VTIMEZONE
BEGIN:VEVENT
DTSTAMP;TZID=Asia/Hong_Kong:20260422T092622
DTSTART;TZID=Asia/Hong_Kong:20201015T143000
DTEND;TZID=Asia/Hong_Kong:20201015T160000
LOCATION:Online
SUMMARY:Research Seminar - Permanence and Transience: Time in the Daode Jing
UID:353
END:VEVENT
END:VCALENDAR