BEGIN:VCALENDAR
PRODID:-//HKUST Drupal Platform//EN
VERSION:2.0
BEGIN:VTIMEZONE
TZID:Asia/Hong_Kong
BEGIN:STANDARD
DTSTART:20071104T020000
TZOFFSETFROM:+0700
TZOFFSETTO:+0800
TZNAME:HKT
END:STANDARD
END:VTIMEZONE
BEGIN:VEVENT
DTSTAMP;TZID=Asia/Hong_Kong:20260423T112101
DTSTART;TZID=Asia/Hong_Kong:20210105T100000
DTEND;TZID=Asia/Hong_Kong:20210105T120000
LOCATION:Zoom (Meeting ID: 960 6972 6959 and Passcode: 250940)
SUMMARY:HUMA Research Seminar - Neo-Confucian Philosophy of History, with Zhu Xi’s Historiography as a Case Study
UID:346
END:VEVENT
END:VCALENDAR