BEGIN:VCALENDAR
PRODID:-//HKUST Drupal Platform//EN
VERSION:2.0
BEGIN:VTIMEZONE
TZID:Asia/Hong_Kong
BEGIN:STANDARD
DTSTART:20071104T020000
TZOFFSETFROM:+0700
TZOFFSETTO:+0800
TZNAME:HKT
END:STANDARD
END:VTIMEZONE
BEGIN:VEVENT
DTSTAMP;TZID=Asia/Hong_Kong:20260423T112039
DTSTART;TZID=Asia/Hong_Kong:20201126T101500
DTEND;TZID=Asia/Hong_Kong:20201126T114500
LOCATION:Zoom (Meeting ID: 972 5194 3434 and Passcode: 864 988), https://hkust.zoom.us/j/97251943434?pwd=cmh5eVVHWU9Kek9BRGR1L1p4WlhUdz09
SUMMARY:HUMA Research Seminar - Transformations of Zhuangzi’s Butterfly Dream: Reception History as a Critical Method
UID:344
END:VEVENT
END:VCALENDAR