BEGIN:VCALENDAR
PRODID:-//HKUST Drupal Platform//EN
VERSION:2.0
BEGIN:VTIMEZONE
TZID:Asia/Hong_Kong
BEGIN:STANDARD
DTSTART:20071104T020000
TZOFFSETFROM:+0700
TZOFFSETTO:+0800
TZNAME:HKT
END:STANDARD
END:VTIMEZONE
BEGIN:VEVENT
DTSTAMP;TZID=Asia/Hong_Kong:20260423T112101
DTSTART;TZID=Asia/Hong_Kong:20201125T120000
DTEND;TZID=Asia/Hong_Kong:20201125T130000
LOCATION:Zoom (Meeting ID: 925 9665 1144 and Passcode: 166 275), https://hkust.zoom.us/j/92596651144?pwd=VU1TMUt1aS9jeVkvQkxZRFNDdlVKQT09
SUMMARY:HUMA Research Seminar - Reinventing the Nation in the Condition of Globalization in Contemporary Chinese Cinema and Visual Culture
UID:343
END:VEVENT
END:VCALENDAR