BEGIN:VCALENDAR
PRODID:-//HKUST Drupal Platform//EN
VERSION:2.0
BEGIN:VTIMEZONE
TZID:Asia/Hong_Kong
BEGIN:STANDARD
DTSTART:20071104T020000
TZOFFSETFROM:+0700
TZOFFSETTO:+0800
TZNAME:HKT
END:STANDARD
END:VTIMEZONE
BEGIN:VEVENT
DTSTAMP;TZID=Asia/Hong_Kong:20260423T042023
DTSTART;TZID=Asia/Hong_Kong:20201125T104500
DTEND;TZID=Asia/Hong_Kong:20201125T114500
LOCATION:Zoom (Meeting ID: 993 9596 0751  and Passcode: 335 540), https://hkust.zoom.us/j/99395960751?pwd=RE1Na1BacUtwYzJYLzMzNjRRRWFZUT09
SUMMARY:HUMA Research Seminar - Opportunity in Crisis: Cantonese Migrants and the State in Late Qing China
UID:342
END:VEVENT
END:VCALENDAR