BEGIN:VCALENDAR
PRODID:-//HKUST Drupal Platform//EN
VERSION:2.0
BEGIN:VTIMEZONE
TZID:Asia/Hong_Kong
BEGIN:STANDARD
DTSTART:20071104T020000
TZOFFSETFROM:+0700
TZOFFSETTO:+0800
TZNAME:HKT
END:STANDARD
END:VTIMEZONE
BEGIN:VEVENT
DTSTAMP;TZID=Asia/Hong_Kong:20260423T024915
DTSTART;TZID=Asia/Hong_Kong:20201125T093000
DTEND;TZID=Asia/Hong_Kong:20201125T103000
LOCATION:Zoom (Meeting ID: 953 9273 8946  and Passcode: 805 901), https://hkust.zoom.us/j/95392738946?pwd=bFVkUllpUUJiSEhZcDB1ZDFQQVlkdz09
SUMMARY:HUMA Research Seminar - The Chinese Card Catalogue
UID:341
END:VEVENT
END:VCALENDAR