BEGIN:VCALENDAR
PRODID:-//HKUST Drupal Platform//EN
VERSION:2.0
BEGIN:VTIMEZONE
TZID:Asia/Hong_Kong
BEGIN:STANDARD
DTSTART:20071104T020000
TZOFFSETFROM:+0700
TZOFFSETTO:+0800
TZNAME:HKT
END:STANDARD
END:VTIMEZONE
BEGIN:VEVENT
DTSTAMP;TZID=Asia/Hong_Kong:20260423T042023
DTSTART;TZID=Asia/Hong_Kong:20201119T160000
DTEND;TZID=Asia/Hong_Kong:20201119T173000
LOCATION:Zoom (Join Zoom Meeting ID: 93959320085 and Passcode:  479733),  https://hkust.zoom.us/j/93959320085?pwd=SHBpRWIwQzhmZUZLS2NtbmM2K25LQT09
SUMMARY:HUMA Research Seminar - Local Networks with Global Reach: Sichuanese “citizen-journalists” reporting from the 1919 Paris Peace Conference and the formation of public opinion in May Fourth times
UID:339
END:VEVENT
END:VCALENDAR