BEGIN:VCALENDAR
PRODID:-//HKUST Drupal Platform//EN
VERSION:2.0
BEGIN:VTIMEZONE
TZID:Asia/Hong_Kong
BEGIN:STANDARD
DTSTART:20071104T020000
TZOFFSETFROM:+0700
TZOFFSETTO:+0800
TZNAME:HKT
END:STANDARD
END:VTIMEZONE
BEGIN:VEVENT
DTSTAMP;TZID=Asia/Hong_Kong:20260423T112100
DTSTART;TZID=Asia/Hong_Kong:20201112T160000
DTEND;TZID=Asia/Hong_Kong:20201112T173000
LOCATION:Zoom (Meeting ID: 965 0798 3816 and Passcode: 631501), https://hkust.zoom.us/j/96507983816?pwd=SDlJbTJJbWpYd2liS0ZvVkl3ZkpmUT09
SUMMARY:HUMA Research Seminar - How the Akha heal a sick child: The Cooperation of Cosmology, Kinship and Support
UID:338
END:VEVENT
END:VCALENDAR