BEGIN:VCALENDAR
PRODID:-//HKUST Drupal Platform//EN
VERSION:2.0
BEGIN:VTIMEZONE
TZID:Asia/Hong_Kong
BEGIN:STANDARD
DTSTART:20071104T020000
TZOFFSETFROM:+0700
TZOFFSETTO:+0800
TZNAME:HKT
END:STANDARD
END:VTIMEZONE
BEGIN:VEVENT
DTSTAMP;TZID=Asia/Hong_Kong:20260423T112100
DTSTART;TZID=Asia/Hong_Kong:20201105T160000
DTEND;TZID=Asia/Hong_Kong:20201105T173000
LOCATION:Zoom (Meeting ID: 978 4882 8637 and Passcode: 513 378), https://hkust.zoom.us/j/97848828637?pwd=K3VWeGJzSGJidGZYSzJXSmxqdFNQQT09
SUMMARY:HUMA Research Seminar - The Instruments of Empire: Magnetic Science and Imperialism in the Nineteenth Century
UID:337
END:VEVENT
END:VCALENDAR