BEGIN:VCALENDAR
PRODID:-//HKUST Drupal Platform//EN
VERSION:2.0
BEGIN:VTIMEZONE
TZID:Asia/Hong_Kong
BEGIN:STANDARD
DTSTART:20071104T020000
TZOFFSETFROM:+0700
TZOFFSETTO:+0800
TZNAME:HKT
END:STANDARD
END:VTIMEZONE
BEGIN:VEVENT
DTSTAMP;TZID=Asia/Hong_Kong:20260423T112101
DTSTART;TZID=Asia/Hong_Kong:20201029T160000
DTEND;TZID=Asia/Hong_Kong:20201029T173000
LOCATION:Zoom (Meeting ID: 984 2122 8127 and Passcode: 335 089), https://hkust.zoom.us/j/98421228127?pwd=S0xhYW02TFdmRUVCRUl2QnBkdTZTQT09
SUMMARY:HUMA Research Seminar - Remembered by More than One Name: Transcription, Multilingualism, and Ethnic Heritage in the Case of the Daur Dedule Clan Genealogy
UID:336
END:VEVENT
END:VCALENDAR