BEGIN:VCALENDAR
PRODID:-//HKUST Drupal Platform//EN
VERSION:2.0
BEGIN:VTIMEZONE
TZID:Asia/Hong_Kong
BEGIN:STANDARD
DTSTART:20071104T020000
TZOFFSETFROM:+0700
TZOFFSETTO:+0800
TZNAME:HKT
END:STANDARD
END:VTIMEZONE
BEGIN:VEVENT
DTSTAMP;TZID=Asia/Hong_Kong:20260420T152859
DTSTART;TZID=Asia/Hong_Kong:19700101T080000
DTEND;TZID=Asia/Hong_Kong:19700101T080000
LOCATION:學術大樓3598室(27-28號升降機)
SUMMARY:臺灣典藏之近代中國檔案：機構網絡、典藏特色與研究價值 (第一場) 冷戰臺海祕密戰線：情報、滲透與海上非正規作戰 (第二場)
UID:1520
END:VEVENT
END:VCALENDAR