BEGIN:VCALENDAR
PRODID:-//HKUST Drupal Platform//EN
VERSION:2.0
BEGIN:VTIMEZONE
TZID:Asia/Hong_Kong
BEGIN:STANDARD
DTSTART:20071104T020000
TZOFFSETFROM:+0700
TZOFFSETTO:+0800
TZNAME:HKT
END:STANDARD
END:VTIMEZONE
BEGIN:VEVENT
DTSTAMP;TZID=Asia/Hong_Kong:20260421T020838
DTSTART;TZID=Asia/Hong_Kong:20231104T000000
DTEND;TZID=Asia/Hong_Kong:20231105T235900
SUMMARY:珠江三角洲的生態環境與地方文化: 廣州南沙區沙田與宗族歷史考察
UID:1238
END:VEVENT
END:VCALENDAR