BEGIN:VCALENDAR
PRODID:-//HKUST Drupal Platform//EN
VERSION:2.0
BEGIN:VTIMEZONE
TZID:Asia/Hong_Kong
BEGIN:STANDARD
DTSTART:20071104T020000
TZOFFSETFROM:+0700
TZOFFSETTO:+0800
TZNAME:HKT
END:STANDARD
END:VTIMEZONE
BEGIN:VEVENT
DTSTAMP;TZID=Asia/Hong_Kong:20260420T153737
DTSTART;TZID=Asia/Hong_Kong:20230310T153000
DTEND;TZID=Asia/Hong_Kong:20230310T173000
LOCATION:香港科技大學曾肇添展藝廳 Tsang Shiu Tim Art Hall, HKUST
SUMMARY: 國家級非物質文化遺產:  坑口區麒麟學堂 (科大校園 曾肇添展藝廳) 客家舞麒麟訓練班
UID:1115
END:VEVENT
BEGIN:VEVENT
DTSTAMP;TZID=Asia/Hong_Kong:20260420T153737
DTSTART;TZID=Asia/Hong_Kong:20230311T153000
DTEND;TZID=Asia/Hong_Kong:20230311T173000
LOCATION:香港科技大學曾肇添展藝廳 Tsang Shiu Tim Art Hall, HKUST
SUMMARY: 國家級非物質文化遺產:  坑口區麒麟學堂 (科大校園 曾肇添展藝廳) 客家舞麒麟訓練班
UID:1115
END:VEVENT
BEGIN:VEVENT
DTSTAMP;TZID=Asia/Hong_Kong:20260420T153737
DTSTART;TZID=Asia/Hong_Kong:20230312T153000
DTEND;TZID=Asia/Hong_Kong:20230312T173000
LOCATION:香港科技大學曾肇添展藝廳 Tsang Shiu Tim Art Hall, HKUST
SUMMARY: 國家級非物質文化遺產:  坑口區麒麟學堂 (科大校園 曾肇添展藝廳) 客家舞麒麟訓練班
UID:1115
END:VEVENT
BEGIN:VEVENT
DTSTAMP;TZID=Asia/Hong_Kong:20260420T153737
DTSTART;TZID=Asia/Hong_Kong:20230313T153000
DTEND;TZID=Asia/Hong_Kong:20230313T173000
LOCATION:香港科技大學曾肇添展藝廳 Tsang Shiu Tim Art Hall, HKUST
SUMMARY: 國家級非物質文化遺產:  坑口區麒麟學堂 (科大校園 曾肇添展藝廳) 客家舞麒麟訓練班
UID:1115
END:VEVENT
BEGIN:VEVENT
DTSTAMP;TZID=Asia/Hong_Kong:20260420T153737
DTSTART;TZID=Asia/Hong_Kong:20230314T153000
DTEND;TZID=Asia/Hong_Kong:20230314T173000
LOCATION:香港科技大學曾肇添展藝廳 Tsang Shiu Tim Art Hall, HKUST
SUMMARY: 國家級非物質文化遺產:  坑口區麒麟學堂 (科大校園 曾肇添展藝廳) 客家舞麒麟訓練班
UID:1115
END:VEVENT
BEGIN:VEVENT
DTSTAMP;TZID=Asia/Hong_Kong:20260420T153737
DTSTART;TZID=Asia/Hong_Kong:20230315T153000
DTEND;TZID=Asia/Hong_Kong:20230315T173000
LOCATION:香港科技大學曾肇添展藝廳 Tsang Shiu Tim Art Hall, HKUST
SUMMARY: 國家級非物質文化遺產:  坑口區麒麟學堂 (科大校園 曾肇添展藝廳) 客家舞麒麟訓練班
UID:1115
END:VEVENT
BEGIN:VEVENT
DTSTAMP;TZID=Asia/Hong_Kong:20260420T153737
DTSTART;TZID=Asia/Hong_Kong:20230316T153000
DTEND;TZID=Asia/Hong_Kong:20230316T173000
LOCATION:香港科技大學曾肇添展藝廳 Tsang Shiu Tim Art Hall, HKUST
SUMMARY: 國家級非物質文化遺產:  坑口區麒麟學堂 (科大校園 曾肇添展藝廳) 客家舞麒麟訓練班
UID:1115
END:VEVENT
BEGIN:VEVENT
DTSTAMP;TZID=Asia/Hong_Kong:20260420T153737
DTSTART;TZID=Asia/Hong_Kong:20230317T153000
DTEND;TZID=Asia/Hong_Kong:20230317T173000
LOCATION:香港科技大學曾肇添展藝廳 Tsang Shiu Tim Art Hall, HKUST
SUMMARY: 國家級非物質文化遺產:  坑口區麒麟學堂 (科大校園 曾肇添展藝廳) 客家舞麒麟訓練班
UID:1115
END:VEVENT
BEGIN:VEVENT
DTSTAMP;TZID=Asia/Hong_Kong:20260420T153737
DTSTART;TZID=Asia/Hong_Kong:20230318T153000
DTEND;TZID=Asia/Hong_Kong:20230318T173000
LOCATION:香港科技大學曾肇添展藝廳 Tsang Shiu Tim Art Hall, HKUST
SUMMARY: 國家級非物質文化遺產:  坑口區麒麟學堂 (科大校園 曾肇添展藝廳) 客家舞麒麟訓練班
UID:1115
END:VEVENT
BEGIN:VEVENT
DTSTAMP;TZID=Asia/Hong_Kong:20260420T153737
DTSTART;TZID=Asia/Hong_Kong:20230319T153000
DTEND;TZID=Asia/Hong_Kong:20230319T173000
LOCATION:香港科技大學曾肇添展藝廳 Tsang Shiu Tim Art Hall, HKUST
SUMMARY: 國家級非物質文化遺產:  坑口區麒麟學堂 (科大校園 曾肇添展藝廳) 客家舞麒麟訓練班
UID:1115
END:VEVENT
BEGIN:VEVENT
DTSTAMP;TZID=Asia/Hong_Kong:20260420T153737
DTSTART;TZID=Asia/Hong_Kong:20230320T153000
DTEND;TZID=Asia/Hong_Kong:20230320T173000
LOCATION:香港科技大學曾肇添展藝廳 Tsang Shiu Tim Art Hall, HKUST
SUMMARY: 國家級非物質文化遺產:  坑口區麒麟學堂 (科大校園 曾肇添展藝廳) 客家舞麒麟訓練班
UID:1115
END:VEVENT
BEGIN:VEVENT
DTSTAMP;TZID=Asia/Hong_Kong:20260420T153737
DTSTART;TZID=Asia/Hong_Kong:20230321T153000
DTEND;TZID=Asia/Hong_Kong:20230321T173000
LOCATION:香港科技大學曾肇添展藝廳 Tsang Shiu Tim Art Hall, HKUST
SUMMARY: 國家級非物質文化遺產:  坑口區麒麟學堂 (科大校園 曾肇添展藝廳) 客家舞麒麟訓練班
UID:1115
END:VEVENT
BEGIN:VEVENT
DTSTAMP;TZID=Asia/Hong_Kong:20260420T153737
DTSTART;TZID=Asia/Hong_Kong:20230322T153000
DTEND;TZID=Asia/Hong_Kong:20230322T173000
LOCATION:香港科技大學曾肇添展藝廳 Tsang Shiu Tim Art Hall, HKUST
SUMMARY: 國家級非物質文化遺產:  坑口區麒麟學堂 (科大校園 曾肇添展藝廳) 客家舞麒麟訓練班
UID:1115
END:VEVENT
BEGIN:VEVENT
DTSTAMP;TZID=Asia/Hong_Kong:20260420T153737
DTSTART;TZID=Asia/Hong_Kong:20230323T153000
DTEND;TZID=Asia/Hong_Kong:20230323T173000
LOCATION:香港科技大學曾肇添展藝廳 Tsang Shiu Tim Art Hall, HKUST
SUMMARY: 國家級非物質文化遺產:  坑口區麒麟學堂 (科大校園 曾肇添展藝廳) 客家舞麒麟訓練班
UID:1115
END:VEVENT
BEGIN:VEVENT
DTSTAMP;TZID=Asia/Hong_Kong:20260420T153737
DTSTART;TZID=Asia/Hong_Kong:20230324T153000
DTEND;TZID=Asia/Hong_Kong:20230324T173000
LOCATION:香港科技大學曾肇添展藝廳 Tsang Shiu Tim Art Hall, HKUST
SUMMARY: 國家級非物質文化遺產:  坑口區麒麟學堂 (科大校園 曾肇添展藝廳) 客家舞麒麟訓練班
UID:1115
END:VEVENT
BEGIN:VEVENT
DTSTAMP;TZID=Asia/Hong_Kong:20260420T153737
DTSTART;TZID=Asia/Hong_Kong:20230325T153000
DTEND;TZID=Asia/Hong_Kong:20230325T173000
LOCATION:香港科技大學曾肇添展藝廳 Tsang Shiu Tim Art Hall, HKUST
SUMMARY: 國家級非物質文化遺產:  坑口區麒麟學堂 (科大校園 曾肇添展藝廳) 客家舞麒麟訓練班
UID:1115
END:VEVENT
BEGIN:VEVENT
DTSTAMP;TZID=Asia/Hong_Kong:20260420T153737
DTSTART;TZID=Asia/Hong_Kong:20230326T153000
DTEND;TZID=Asia/Hong_Kong:20230326T173000
LOCATION:香港科技大學曾肇添展藝廳 Tsang Shiu Tim Art Hall, HKUST
SUMMARY: 國家級非物質文化遺產:  坑口區麒麟學堂 (科大校園 曾肇添展藝廳) 客家舞麒麟訓練班
UID:1115
END:VEVENT
BEGIN:VEVENT
DTSTAMP;TZID=Asia/Hong_Kong:20260420T153737
DTSTART;TZID=Asia/Hong_Kong:20230327T153000
DTEND;TZID=Asia/Hong_Kong:20230327T173000
LOCATION:香港科技大學曾肇添展藝廳 Tsang Shiu Tim Art Hall, HKUST
SUMMARY: 國家級非物質文化遺產:  坑口區麒麟學堂 (科大校園 曾肇添展藝廳) 客家舞麒麟訓練班
UID:1115
END:VEVENT
BEGIN:VEVENT
DTSTAMP;TZID=Asia/Hong_Kong:20260420T153737
DTSTART;TZID=Asia/Hong_Kong:20230328T153000
DTEND;TZID=Asia/Hong_Kong:20230328T173000
LOCATION:香港科技大學曾肇添展藝廳 Tsang Shiu Tim Art Hall, HKUST
SUMMARY: 國家級非物質文化遺產:  坑口區麒麟學堂 (科大校園 曾肇添展藝廳) 客家舞麒麟訓練班
UID:1115
END:VEVENT
BEGIN:VEVENT
DTSTAMP;TZID=Asia/Hong_Kong:20260420T153737
DTSTART;TZID=Asia/Hong_Kong:20230329T153000
DTEND;TZID=Asia/Hong_Kong:20230329T173000
LOCATION:香港科技大學曾肇添展藝廳 Tsang Shiu Tim Art Hall, HKUST
SUMMARY: 國家級非物質文化遺產:  坑口區麒麟學堂 (科大校園 曾肇添展藝廳) 客家舞麒麟訓練班
UID:1115
END:VEVENT
BEGIN:VEVENT
DTSTAMP;TZID=Asia/Hong_Kong:20260420T153737
DTSTART;TZID=Asia/Hong_Kong:20230330T153000
DTEND;TZID=Asia/Hong_Kong:20230330T173000
LOCATION:香港科技大學曾肇添展藝廳 Tsang Shiu Tim Art Hall, HKUST
SUMMARY: 國家級非物質文化遺產:  坑口區麒麟學堂 (科大校園 曾肇添展藝廳) 客家舞麒麟訓練班
UID:1115
END:VEVENT
BEGIN:VEVENT
DTSTAMP;TZID=Asia/Hong_Kong:20260420T153737
DTSTART;TZID=Asia/Hong_Kong:20230331T153000
DTEND;TZID=Asia/Hong_Kong:20230331T173000
LOCATION:香港科技大學曾肇添展藝廳 Tsang Shiu Tim Art Hall, HKUST
SUMMARY: 國家級非物質文化遺產:  坑口區麒麟學堂 (科大校園 曾肇添展藝廳) 客家舞麒麟訓練班
UID:1115
END:VEVENT
BEGIN:VEVENT
DTSTAMP;TZID=Asia/Hong_Kong:20260420T153737
DTSTART;TZID=Asia/Hong_Kong:20230401T153000
DTEND;TZID=Asia/Hong_Kong:20230401T173000
LOCATION:香港科技大學曾肇添展藝廳 Tsang Shiu Tim Art Hall, HKUST
SUMMARY: 國家級非物質文化遺產:  坑口區麒麟學堂 (科大校園 曾肇添展藝廳) 客家舞麒麟訓練班
UID:1115
END:VEVENT
BEGIN:VEVENT
DTSTAMP;TZID=Asia/Hong_Kong:20260420T153737
DTSTART;TZID=Asia/Hong_Kong:20230402T153000
DTEND;TZID=Asia/Hong_Kong:20230402T173000
LOCATION:香港科技大學曾肇添展藝廳 Tsang Shiu Tim Art Hall, HKUST
SUMMARY: 國家級非物質文化遺產:  坑口區麒麟學堂 (科大校園 曾肇添展藝廳) 客家舞麒麟訓練班
UID:1115
END:VEVENT
BEGIN:VEVENT
DTSTAMP;TZID=Asia/Hong_Kong:20260420T153737
DTSTART;TZID=Asia/Hong_Kong:20230403T153000
DTEND;TZID=Asia/Hong_Kong:20230403T173000
LOCATION:香港科技大學曾肇添展藝廳 Tsang Shiu Tim Art Hall, HKUST
SUMMARY: 國家級非物質文化遺產:  坑口區麒麟學堂 (科大校園 曾肇添展藝廳) 客家舞麒麟訓練班
UID:1115
END:VEVENT
BEGIN:VEVENT
DTSTAMP;TZID=Asia/Hong_Kong:20260420T153737
DTSTART;TZID=Asia/Hong_Kong:20230404T153000
DTEND;TZID=Asia/Hong_Kong:20230404T173000
LOCATION:香港科技大學曾肇添展藝廳 Tsang Shiu Tim Art Hall, HKUST
SUMMARY: 國家級非物質文化遺產:  坑口區麒麟學堂 (科大校園 曾肇添展藝廳) 客家舞麒麟訓練班
UID:1115
END:VEVENT
BEGIN:VEVENT
DTSTAMP;TZID=Asia/Hong_Kong:20260420T153737
DTSTART;TZID=Asia/Hong_Kong:20230405T153000
DTEND;TZID=Asia/Hong_Kong:20230405T173000
LOCATION:香港科技大學曾肇添展藝廳 Tsang Shiu Tim Art Hall, HKUST
SUMMARY: 國家級非物質文化遺產:  坑口區麒麟學堂 (科大校園 曾肇添展藝廳) 客家舞麒麟訓練班
UID:1115
END:VEVENT
BEGIN:VEVENT
DTSTAMP;TZID=Asia/Hong_Kong:20260420T153737
DTSTART;TZID=Asia/Hong_Kong:20230406T153000
DTEND;TZID=Asia/Hong_Kong:20230406T173000
LOCATION:香港科技大學曾肇添展藝廳 Tsang Shiu Tim Art Hall, HKUST
SUMMARY: 國家級非物質文化遺產:  坑口區麒麟學堂 (科大校園 曾肇添展藝廳) 客家舞麒麟訓練班
UID:1115
END:VEVENT
BEGIN:VEVENT
DTSTAMP;TZID=Asia/Hong_Kong:20260420T153737
DTSTART;TZID=Asia/Hong_Kong:20230407T153000
DTEND;TZID=Asia/Hong_Kong:20230407T173000
LOCATION:香港科技大學曾肇添展藝廳 Tsang Shiu Tim Art Hall, HKUST
SUMMARY: 國家級非物質文化遺產:  坑口區麒麟學堂 (科大校園 曾肇添展藝廳) 客家舞麒麟訓練班
UID:1115
END:VEVENT
BEGIN:VEVENT
DTSTAMP;TZID=Asia/Hong_Kong:20260420T153737
DTSTART;TZID=Asia/Hong_Kong:20230408T153000
DTEND;TZID=Asia/Hong_Kong:20230408T173000
LOCATION:香港科技大學曾肇添展藝廳 Tsang Shiu Tim Art Hall, HKUST
SUMMARY: 國家級非物質文化遺產:  坑口區麒麟學堂 (科大校園 曾肇添展藝廳) 客家舞麒麟訓練班
UID:1115
END:VEVENT
BEGIN:VEVENT
DTSTAMP;TZID=Asia/Hong_Kong:20260420T153737
DTSTART;TZID=Asia/Hong_Kong:20230409T153000
DTEND;TZID=Asia/Hong_Kong:20230409T173000
LOCATION:香港科技大學曾肇添展藝廳 Tsang Shiu Tim Art Hall, HKUST
SUMMARY: 國家級非物質文化遺產:  坑口區麒麟學堂 (科大校園 曾肇添展藝廳) 客家舞麒麟訓練班
UID:1115
END:VEVENT
BEGIN:VEVENT
DTSTAMP;TZID=Asia/Hong_Kong:20260420T153737
DTSTART;TZID=Asia/Hong_Kong:20230410T153000
DTEND;TZID=Asia/Hong_Kong:20230410T173000
LOCATION:香港科技大學曾肇添展藝廳 Tsang Shiu Tim Art Hall, HKUST
SUMMARY: 國家級非物質文化遺產:  坑口區麒麟學堂 (科大校園 曾肇添展藝廳) 客家舞麒麟訓練班
UID:1115
END:VEVENT
BEGIN:VEVENT
DTSTAMP;TZID=Asia/Hong_Kong:20260420T153737
DTSTART;TZID=Asia/Hong_Kong:20230411T153000
DTEND;TZID=Asia/Hong_Kong:20230411T173000
LOCATION:香港科技大學曾肇添展藝廳 Tsang Shiu Tim Art Hall, HKUST
SUMMARY: 國家級非物質文化遺產:  坑口區麒麟學堂 (科大校園 曾肇添展藝廳) 客家舞麒麟訓練班
UID:1115
END:VEVENT
BEGIN:VEVENT
DTSTAMP;TZID=Asia/Hong_Kong:20260420T153737
DTSTART;TZID=Asia/Hong_Kong:20230412T153000
DTEND;TZID=Asia/Hong_Kong:20230412T173000
LOCATION:香港科技大學曾肇添展藝廳 Tsang Shiu Tim Art Hall, HKUST
SUMMARY: 國家級非物質文化遺產:  坑口區麒麟學堂 (科大校園 曾肇添展藝廳) 客家舞麒麟訓練班
UID:1115
END:VEVENT
BEGIN:VEVENT
DTSTAMP;TZID=Asia/Hong_Kong:20260420T153737
DTSTART;TZID=Asia/Hong_Kong:20230413T153000
DTEND;TZID=Asia/Hong_Kong:20230413T173000
LOCATION:香港科技大學曾肇添展藝廳 Tsang Shiu Tim Art Hall, HKUST
SUMMARY: 國家級非物質文化遺產:  坑口區麒麟學堂 (科大校園 曾肇添展藝廳) 客家舞麒麟訓練班
UID:1115
END:VEVENT
BEGIN:VEVENT
DTSTAMP;TZID=Asia/Hong_Kong:20260420T153737
DTSTART;TZID=Asia/Hong_Kong:20230414T153000
DTEND;TZID=Asia/Hong_Kong:20230414T173000
LOCATION:香港科技大學曾肇添展藝廳 Tsang Shiu Tim Art Hall, HKUST
SUMMARY: 國家級非物質文化遺產:  坑口區麒麟學堂 (科大校園 曾肇添展藝廳) 客家舞麒麟訓練班
UID:1115
END:VEVENT
BEGIN:VEVENT
DTSTAMP;TZID=Asia/Hong_Kong:20260420T153737
DTSTART;TZID=Asia/Hong_Kong:20230415T153000
DTEND;TZID=Asia/Hong_Kong:20230415T173000
LOCATION:香港科技大學曾肇添展藝廳 Tsang Shiu Tim Art Hall, HKUST
SUMMARY: 國家級非物質文化遺產:  坑口區麒麟學堂 (科大校園 曾肇添展藝廳) 客家舞麒麟訓練班
UID:1115
END:VEVENT
BEGIN:VEVENT
DTSTAMP;TZID=Asia/Hong_Kong:20260420T153737
DTSTART;TZID=Asia/Hong_Kong:20230416T153000
DTEND;TZID=Asia/Hong_Kong:20230416T173000
LOCATION:香港科技大學曾肇添展藝廳 Tsang Shiu Tim Art Hall, HKUST
SUMMARY: 國家級非物質文化遺產:  坑口區麒麟學堂 (科大校園 曾肇添展藝廳) 客家舞麒麟訓練班
UID:1115
END:VEVENT
BEGIN:VEVENT
DTSTAMP;TZID=Asia/Hong_Kong:20260420T153737
DTSTART;TZID=Asia/Hong_Kong:20230417T153000
DTEND;TZID=Asia/Hong_Kong:20230417T173000
LOCATION:香港科技大學曾肇添展藝廳 Tsang Shiu Tim Art Hall, HKUST
SUMMARY: 國家級非物質文化遺產:  坑口區麒麟學堂 (科大校園 曾肇添展藝廳) 客家舞麒麟訓練班
UID:1115
END:VEVENT
BEGIN:VEVENT
DTSTAMP;TZID=Asia/Hong_Kong:20260420T153737
DTSTART;TZID=Asia/Hong_Kong:20230418T153000
DTEND;TZID=Asia/Hong_Kong:20230418T173000
LOCATION:香港科技大學曾肇添展藝廳 Tsang Shiu Tim Art Hall, HKUST
SUMMARY: 國家級非物質文化遺產:  坑口區麒麟學堂 (科大校園 曾肇添展藝廳) 客家舞麒麟訓練班
UID:1115
END:VEVENT
BEGIN:VEVENT
DTSTAMP;TZID=Asia/Hong_Kong:20260420T153737
DTSTART;TZID=Asia/Hong_Kong:20230419T153000
DTEND;TZID=Asia/Hong_Kong:20230419T173000
LOCATION:香港科技大學曾肇添展藝廳 Tsang Shiu Tim Art Hall, HKUST
SUMMARY: 國家級非物質文化遺產:  坑口區麒麟學堂 (科大校園 曾肇添展藝廳) 客家舞麒麟訓練班
UID:1115
END:VEVENT
BEGIN:VEVENT
DTSTAMP;TZID=Asia/Hong_Kong:20260420T153737
DTSTART;TZID=Asia/Hong_Kong:20230420T153000
DTEND;TZID=Asia/Hong_Kong:20230420T173000
LOCATION:香港科技大學曾肇添展藝廳 Tsang Shiu Tim Art Hall, HKUST
SUMMARY: 國家級非物質文化遺產:  坑口區麒麟學堂 (科大校園 曾肇添展藝廳) 客家舞麒麟訓練班
UID:1115
END:VEVENT
BEGIN:VEVENT
DTSTAMP;TZID=Asia/Hong_Kong:20260420T153737
DTSTART;TZID=Asia/Hong_Kong:20230421T153000
DTEND;TZID=Asia/Hong_Kong:20230421T173000
LOCATION:香港科技大學曾肇添展藝廳 Tsang Shiu Tim Art Hall, HKUST
SUMMARY: 國家級非物質文化遺產:  坑口區麒麟學堂 (科大校園 曾肇添展藝廳) 客家舞麒麟訓練班
UID:1115
END:VEVENT
BEGIN:VEVENT
DTSTAMP;TZID=Asia/Hong_Kong:20260420T153737
DTSTART;TZID=Asia/Hong_Kong:20230422T153000
DTEND;TZID=Asia/Hong_Kong:20230422T173000
LOCATION:香港科技大學曾肇添展藝廳 Tsang Shiu Tim Art Hall, HKUST
SUMMARY: 國家級非物質文化遺產:  坑口區麒麟學堂 (科大校園 曾肇添展藝廳) 客家舞麒麟訓練班
UID:1115
END:VEVENT
BEGIN:VEVENT
DTSTAMP;TZID=Asia/Hong_Kong:20260420T153737
DTSTART;TZID=Asia/Hong_Kong:20230423T153000
DTEND;TZID=Asia/Hong_Kong:20230423T173000
LOCATION:香港科技大學曾肇添展藝廳 Tsang Shiu Tim Art Hall, HKUST
SUMMARY: 國家級非物質文化遺產:  坑口區麒麟學堂 (科大校園 曾肇添展藝廳) 客家舞麒麟訓練班
UID:1115
END:VEVENT
BEGIN:VEVENT
DTSTAMP;TZID=Asia/Hong_Kong:20260420T153737
DTSTART;TZID=Asia/Hong_Kong:20230424T153000
DTEND;TZID=Asia/Hong_Kong:20230424T173000
LOCATION:香港科技大學曾肇添展藝廳 Tsang Shiu Tim Art Hall, HKUST
SUMMARY: 國家級非物質文化遺產:  坑口區麒麟學堂 (科大校園 曾肇添展藝廳) 客家舞麒麟訓練班
UID:1115
END:VEVENT
BEGIN:VEVENT
DTSTAMP;TZID=Asia/Hong_Kong:20260420T153737
DTSTART;TZID=Asia/Hong_Kong:20230425T153000
DTEND;TZID=Asia/Hong_Kong:20230425T173000
LOCATION:香港科技大學曾肇添展藝廳 Tsang Shiu Tim Art Hall, HKUST
SUMMARY: 國家級非物質文化遺產:  坑口區麒麟學堂 (科大校園 曾肇添展藝廳) 客家舞麒麟訓練班
UID:1115
END:VEVENT
BEGIN:VEVENT
DTSTAMP;TZID=Asia/Hong_Kong:20260420T153737
DTSTART;TZID=Asia/Hong_Kong:20230426T153000
DTEND;TZID=Asia/Hong_Kong:20230426T173000
LOCATION:香港科技大學曾肇添展藝廳 Tsang Shiu Tim Art Hall, HKUST
SUMMARY: 國家級非物質文化遺產:  坑口區麒麟學堂 (科大校園 曾肇添展藝廳) 客家舞麒麟訓練班
UID:1115
END:VEVENT
BEGIN:VEVENT
DTSTAMP;TZID=Asia/Hong_Kong:20260420T153737
DTSTART;TZID=Asia/Hong_Kong:20230427T153000
DTEND;TZID=Asia/Hong_Kong:20230427T173000
LOCATION:香港科技大學曾肇添展藝廳 Tsang Shiu Tim Art Hall, HKUST
SUMMARY: 國家級非物質文化遺產:  坑口區麒麟學堂 (科大校園 曾肇添展藝廳) 客家舞麒麟訓練班
UID:1115
END:VEVENT
BEGIN:VEVENT
DTSTAMP;TZID=Asia/Hong_Kong:20260420T153737
DTSTART;TZID=Asia/Hong_Kong:20230428T153000
DTEND;TZID=Asia/Hong_Kong:20230428T173000
LOCATION:香港科技大學曾肇添展藝廳 Tsang Shiu Tim Art Hall, HKUST
SUMMARY: 國家級非物質文化遺產:  坑口區麒麟學堂 (科大校園 曾肇添展藝廳) 客家舞麒麟訓練班
UID:1115
END:VEVENT
BEGIN:VEVENT
DTSTAMP;TZID=Asia/Hong_Kong:20260420T153737
DTSTART;TZID=Asia/Hong_Kong:20230429T153000
DTEND;TZID=Asia/Hong_Kong:20230429T173000
LOCATION:香港科技大學曾肇添展藝廳 Tsang Shiu Tim Art Hall, HKUST
SUMMARY: 國家級非物質文化遺產:  坑口區麒麟學堂 (科大校園 曾肇添展藝廳) 客家舞麒麟訓練班
UID:1115
END:VEVENT
BEGIN:VEVENT
DTSTAMP;TZID=Asia/Hong_Kong:20260420T153737
DTSTART;TZID=Asia/Hong_Kong:20230430T153000
DTEND;TZID=Asia/Hong_Kong:20230430T173000
LOCATION:香港科技大學曾肇添展藝廳 Tsang Shiu Tim Art Hall, HKUST
SUMMARY: 國家級非物質文化遺產:  坑口區麒麟學堂 (科大校園 曾肇添展藝廳) 客家舞麒麟訓練班
UID:1115
END:VEVENT
BEGIN:VEVENT
DTSTAMP;TZID=Asia/Hong_Kong:20260420T153737
DTSTART;TZID=Asia/Hong_Kong:20230501T153000
DTEND;TZID=Asia/Hong_Kong:20230501T173000
LOCATION:香港科技大學曾肇添展藝廳 Tsang Shiu Tim Art Hall, HKUST
SUMMARY: 國家級非物質文化遺產:  坑口區麒麟學堂 (科大校園 曾肇添展藝廳) 客家舞麒麟訓練班
UID:1115
END:VEVENT
BEGIN:VEVENT
DTSTAMP;TZID=Asia/Hong_Kong:20260420T153737
DTSTART;TZID=Asia/Hong_Kong:20230502T153000
DTEND;TZID=Asia/Hong_Kong:20230502T173000
LOCATION:香港科技大學曾肇添展藝廳 Tsang Shiu Tim Art Hall, HKUST
SUMMARY: 國家級非物質文化遺產:  坑口區麒麟學堂 (科大校園 曾肇添展藝廳) 客家舞麒麟訓練班
UID:1115
END:VEVENT
BEGIN:VEVENT
DTSTAMP;TZID=Asia/Hong_Kong:20260420T153737
DTSTART;TZID=Asia/Hong_Kong:20230503T153000
DTEND;TZID=Asia/Hong_Kong:20230503T173000
LOCATION:香港科技大學曾肇添展藝廳 Tsang Shiu Tim Art Hall, HKUST
SUMMARY: 國家級非物質文化遺產:  坑口區麒麟學堂 (科大校園 曾肇添展藝廳) 客家舞麒麟訓練班
UID:1115
END:VEVENT
BEGIN:VEVENT
DTSTAMP;TZID=Asia/Hong_Kong:20260420T153737
DTSTART;TZID=Asia/Hong_Kong:20230504T153000
DTEND;TZID=Asia/Hong_Kong:20230504T173000
LOCATION:香港科技大學曾肇添展藝廳 Tsang Shiu Tim Art Hall, HKUST
SUMMARY: 國家級非物質文化遺產:  坑口區麒麟學堂 (科大校園 曾肇添展藝廳) 客家舞麒麟訓練班
UID:1115
END:VEVENT
BEGIN:VEVENT
DTSTAMP;TZID=Asia/Hong_Kong:20260420T153737
DTSTART;TZID=Asia/Hong_Kong:20230505T153000
DTEND;TZID=Asia/Hong_Kong:20230505T173000
LOCATION:香港科技大學曾肇添展藝廳 Tsang Shiu Tim Art Hall, HKUST
SUMMARY: 國家級非物質文化遺產:  坑口區麒麟學堂 (科大校園 曾肇添展藝廳) 客家舞麒麟訓練班
UID:1115
END:VEVENT
END:VCALENDAR